BEGIN:VCALENDAR
VERSION:2.0
PRODID:-//UCLA Communication - ECPv6.15.12//NONSGML v1.0//EN
CALSCALE:GREGORIAN
METHOD:PUBLISH
X-ORIGINAL-URL:https://comm.ucla.edu
X-WR-CALDESC:Events for UCLA Communication
REFRESH-INTERVAL;VALUE=DURATION:PT1H
X-Robots-Tag:noindex
X-PUBLISHED-TTL:PT1H
BEGIN:VTIMEZONE
TZID:America/Los_Angeles
BEGIN:DAYLIGHT
TZOFFSETFROM:-0800
TZOFFSETTO:-0700
TZNAME:PDT
DTSTART:20220313T100000
END:DAYLIGHT
BEGIN:STANDARD
TZOFFSETFROM:-0700
TZOFFSETTO:-0800
TZNAME:PST
DTSTART:20221106T090000
END:STANDARD
BEGIN:DAYLIGHT
TZOFFSETFROM:-0800
TZOFFSETTO:-0700
TZNAME:PDT
DTSTART:20230312T100000
END:DAYLIGHT
BEGIN:STANDARD
TZOFFSETFROM:-0700
TZOFFSETTO:-0800
TZNAME:PST
DTSTART:20231105T090000
END:STANDARD
BEGIN:DAYLIGHT
TZOFFSETFROM:-0800
TZOFFSETTO:-0700
TZNAME:PDT
DTSTART:20240310T100000
END:DAYLIGHT
BEGIN:STANDARD
TZOFFSETFROM:-0700
TZOFFSETTO:-0800
TZNAME:PST
DTSTART:20241103T090000
END:STANDARD
END:VTIMEZONE
BEGIN:VEVENT
DTSTART;TZID=America/Los_Angeles:20230119T110000
DTEND;TZID=America/Los_Angeles:20230119T121500
DTSTAMP:20260425T125313
CREATED:20230117T222127Z
LAST-MODIFIED:20230117T222133Z
UID:6171-1674126000-1674130500@comm.ucla.edu
SUMMARY:Winter 2023 Brown Bag series - Jennifer Whitson\, UCLA Anderson School of Management
DESCRIPTION:Jennifer Whitson\nUCLA Anderson School of Management\n\nTitle: Conspiracy Theories and the Search for Structure\nAbstract: Conspiracy theories cast disparate or unrelated entities as engaging in concerted\, malevolent action. In this talk\, I explore antecedents and consequences of beliefs in conspiracy theories. I first present evidence that individual characteristics (i.e.\, regulatory focus\, political identity) and aspects about the environment (i.e.\, COVID-19 and social media) shape peoples’ receptiveness to conspiratorial beliefs. I then examine a timely consequence of conspiracy theories. Specifically\, how COVID-19-related conspiratorial beliefs have had a significant negative impact on the perception of COVID-19 vaccine importance in the U.S.. Finally\, I suggest a possible intervention that may help ameliorate the adverse effect of conspiratorial beliefs. In particular\, interdependent self-construal may mitigate the relationship between the COVID-19-related conspiratorial beliefs and reduced vaccination rates by increasing the perceived health risks of going unvaccinated. Our intervention differs from previous efforts in that it does not rely on rational persuasion to dissuade people of conspiratorial notions. Instead\, we focus on reducing the impact of conspiratorial beliefs by altering the way people think about their existing identities and groups.
URL:https://comm.ucla.edu/event/winter-2023-brown-bag-series-jennifer-whitson-ucla-anderson-school-of-management/
LOCATION:Comm Conference Room – Rolfe 2303
END:VEVENT
END:VCALENDAR