BEGIN:VCALENDAR
VERSION:2.0
PRODID:-//UCLA Communication - ECPv6.15.12//NONSGML v1.0//EN
CALSCALE:GREGORIAN
METHOD:PUBLISH
X-ORIGINAL-URL:https://comm.ucla.edu
X-WR-CALDESC:Events for UCLA Communication
REFRESH-INTERVAL;VALUE=DURATION:PT1H
X-Robots-Tag:noindex
X-PUBLISHED-TTL:PT1H
BEGIN:VTIMEZONE
TZID:America/Los_Angeles
BEGIN:DAYLIGHT
TZOFFSETFROM:-0800
TZOFFSETTO:-0700
TZNAME:PDT
DTSTART:20220313T100000
END:DAYLIGHT
BEGIN:STANDARD
TZOFFSETFROM:-0700
TZOFFSETTO:-0800
TZNAME:PST
DTSTART:20221106T090000
END:STANDARD
BEGIN:DAYLIGHT
TZOFFSETFROM:-0800
TZOFFSETTO:-0700
TZNAME:PDT
DTSTART:20230312T100000
END:DAYLIGHT
BEGIN:STANDARD
TZOFFSETFROM:-0700
TZOFFSETTO:-0800
TZNAME:PST
DTSTART:20231105T090000
END:STANDARD
BEGIN:DAYLIGHT
TZOFFSETFROM:-0800
TZOFFSETTO:-0700
TZNAME:PDT
DTSTART:20240310T100000
END:DAYLIGHT
BEGIN:STANDARD
TZOFFSETFROM:-0700
TZOFFSETTO:-0800
TZNAME:PST
DTSTART:20241103T090000
END:STANDARD
END:VTIMEZONE
BEGIN:VEVENT
DTSTART;TZID=America/Los_Angeles:20230217T090000
DTEND;TZID=America/Los_Angeles:20230217T150000
DTSTAMP:20260425T033833
CREATED:20230203T171725Z
LAST-MODIFIED:20230203T171731Z
UID:6252-1676624400-1676646000@comm.ucla.edu
SUMMARY:Measuring Media Accuracy workshop
DESCRIPTION:Colleagues\, \nThe Measuring Media Accuracy workshop\, funded by the Luskin Endowment for Thought Leadership at UCLA\, is on Friday February 17th at the Luskin Conference Center. The details are attached in pdf.  The program is as follows: \n9:15    Welcome\, by Stuart Soroka (UCLA\, website)\n9:30    Robert Bond (Ohio State University\, website)\n10:30  Amber Boydstun (UC Davis\, website)\n11:30  Christopher Wlezien (UT Austin\, website)\n12:30  Lunch\n1:45    Kasper Welbers (VU University Amsterdam\, website)\n2:45    Leticia Bode (Georgetown\, website) \nThe workshop is open to any interested faculty or students at UCLA.  You are welcome to come to some or all of the day. (I recommend all!)  An RSVP would be helpful so we can plan appropriately — and it’s especially useful if you think you’d like to join us for lunch as well. You can RSVP here: https://forms.gle/ezcaM9BTqUev4y6G8 \nIf you’ve any questions\, please do get in touch.  And I’ll hope to see you on the 17th! \n 
URL:https://comm.ucla.edu/event/measuring-media-accuracy-workshop/
END:VEVENT
END:VCALENDAR