BEGIN:VCALENDAR
VERSION:2.0
PRODID:-//UCLA Communication - ECPv6.15.12//NONSGML v1.0//EN
CALSCALE:GREGORIAN
METHOD:PUBLISH
X-ORIGINAL-URL:https://comm.ucla.edu
X-WR-CALDESC:Events for UCLA Communication
REFRESH-INTERVAL;VALUE=DURATION:PT1H
X-Robots-Tag:noindex
X-PUBLISHED-TTL:PT1H
BEGIN:VTIMEZONE
TZID:America/Los_Angeles
BEGIN:DAYLIGHT
TZOFFSETFROM:-0800
TZOFFSETTO:-0700
TZNAME:PDT
DTSTART:20220313T100000
END:DAYLIGHT
BEGIN:STANDARD
TZOFFSETFROM:-0700
TZOFFSETTO:-0800
TZNAME:PST
DTSTART:20221106T090000
END:STANDARD
BEGIN:DAYLIGHT
TZOFFSETFROM:-0800
TZOFFSETTO:-0700
TZNAME:PDT
DTSTART:20230312T100000
END:DAYLIGHT
BEGIN:STANDARD
TZOFFSETFROM:-0700
TZOFFSETTO:-0800
TZNAME:PST
DTSTART:20231105T090000
END:STANDARD
BEGIN:DAYLIGHT
TZOFFSETFROM:-0800
TZOFFSETTO:-0700
TZNAME:PDT
DTSTART:20240310T100000
END:DAYLIGHT
BEGIN:STANDARD
TZOFFSETFROM:-0700
TZOFFSETTO:-0800
TZNAME:PST
DTSTART:20241103T090000
END:STANDARD
END:VTIMEZONE
BEGIN:VEVENT
DTSTART;TZID=America/Los_Angeles:20230511T110000
DTEND;TZID=America/Los_Angeles:20230511T120000
DTSTAMP:20260425T170939
CREATED:20230203T173220Z
LAST-MODIFIED:20230511T174557Z
UID:6273-1683802800-1683806400@comm.ucla.edu
SUMMARY:Ashley Martin\, Ph.D. - Brown Bag Talk
DESCRIPTION:Gendered Cognition: The Primacy of Gender in Seeing Human \nWhat does it mean to be (seen as) human? In this talk\, I explore this question and show that the attribution of gender is a critical component of seeing someone—or something—as human. Given gender’s primacy in social cognition\, I propose that gender is linked to “seeing human” in a way that cannot be said of other social categories (i.e.\, race\, age\, sexual orientation\, religion\, or disability). I test this hypothesis in a number of studies that induce humanization (i.e.\, anthropomorphism) and measure social-category ascription\, as well as those that include (versus remove) gendered information and measure humanization. I then present new work that explores gendered cognition using “non-binary” stimuli and among non-binary individuals. Finally\, I explore the implications of gendered cognition for people’s preferences for\, and attachment to\, gendered technology. These findings underscore the importance of gender in humanization and have theoretical and practical implications for research on gender\, (de)humanization\, and social cognition\, as well as for current discussions on gender neutrality.
URL:https://comm.ucla.edu/event/ashley-martin-brown-bag-talk/
LOCATION:Comm Conference Room – Rolfe 2303
END:VEVENT
BEGIN:VEVENT
DTSTART;TZID=America/Los_Angeles:20230511T110000
DTEND;TZID=America/Los_Angeles:20230511T123000
DTSTAMP:20260425T170939
CREATED:20230512T180645Z
LAST-MODIFIED:20230512T183208Z
UID:6548-1683802800-1683808200@comm.ucla.edu
SUMMARY:Natalie Kahn Colloquium in Communication speaker Ashley Martin from the Stanford Graduate School of Business with Natalie Kahn and Roy Patience
DESCRIPTION:
URL:https://comm.ucla.edu/event/natalie-kahn-colloquium-in-communication-speaker-ashley-martin-from-the-stanford-graduate-school-of-business-with-natalie-kahn-and-roy-patience/
END:VEVENT
END:VCALENDAR