BEGIN:VCALENDAR
VERSION:2.0
PRODID:-//UCLA Communication - ECPv6.15.12//NONSGML v1.0//EN
CALSCALE:GREGORIAN
METHOD:PUBLISH
X-WR-CALNAME:UCLA Communication
X-ORIGINAL-URL:https://comm.ucla.edu
X-WR-CALDESC:Events for UCLA Communication
REFRESH-INTERVAL;VALUE=DURATION:PT1H
X-Robots-Tag:noindex
X-PUBLISHED-TTL:PT1H
BEGIN:VTIMEZONE
TZID:America/Los_Angeles
BEGIN:DAYLIGHT
TZOFFSETFROM:-0800
TZOFFSETTO:-0700
TZNAME:PDT
DTSTART:20230312T100000
END:DAYLIGHT
BEGIN:STANDARD
TZOFFSETFROM:-0700
TZOFFSETTO:-0800
TZNAME:PST
DTSTART:20231105T090000
END:STANDARD
BEGIN:DAYLIGHT
TZOFFSETFROM:-0800
TZOFFSETTO:-0700
TZNAME:PDT
DTSTART:20240310T100000
END:DAYLIGHT
BEGIN:STANDARD
TZOFFSETFROM:-0700
TZOFFSETTO:-0800
TZNAME:PST
DTSTART:20241103T090000
END:STANDARD
BEGIN:DAYLIGHT
TZOFFSETFROM:-0800
TZOFFSETTO:-0700
TZNAME:PDT
DTSTART:20250309T100000
END:DAYLIGHT
BEGIN:STANDARD
TZOFFSETFROM:-0700
TZOFFSETTO:-0800
TZNAME:PST
DTSTART:20251102T090000
END:STANDARD
END:VTIMEZONE
BEGIN:VEVENT
DTSTART;TZID=America/Los_Angeles:20240408T150000
DTEND;TZID=America/Los_Angeles:20240408T160000
DTSTAMP:20260424T094911
CREATED:20240405T174557Z
LAST-MODIFIED:20240405T174557Z
UID:7251-1712588400-1712592000@comm.ucla.edu
SUMMARY:Dan Costanzo (NORC at the University of Chicago)
DESCRIPTION:ABSTRACT: Researchers who conduct population surveys face escalating costs and declining response rates\, as they aim to collect data that is representative\, trustworthy\, and publishable. Sample recruitment is often prohibitively expensive to researchers\, and cheap convenience samples are fraught with representation and quality issues. NORC at the University of Chicago has built a survey panel called\nAmeriSpeak to help researchers navigate these choppy waters. AmeriSpeak is a probability (random) sample of US households recruited to take surveys for NORC. Dan Costanzo\, a Director of Business Development at NORC\, will talk about AmeriSpeak’s novel approach to sample recruitment\, which includes sending field interviewers located throughout the US to the homes of non-responders. The\nresult of NORC’s rigorous efforts is a panel that delivers higher response rates and a more representative sample of US adults than mail and phone recruitment efforts alone provide. AmeriSpeak is commercially available to academic\, government\, media\, and other researchers. Costanzo will also talk about the Time-sharing Experiments for the Social Sciences (TESS)\, a federally funded program through\nNorthwestern University that enables academic researchers to use AmeriSpeak for free.
URL:https://comm.ucla.edu/event/dan-costanzo-norc-at-the-university-of-chicago/
LOCATION:Comm Conference Room – Rolfe 2303
CATEGORIES:Communication and Politics Group
END:VEVENT
END:VCALENDAR