BEGIN:VCALENDAR
VERSION:2.0
PRODID:-//UCLA Communication - ECPv6.15.12//NONSGML v1.0//EN
CALSCALE:GREGORIAN
METHOD:PUBLISH
X-WR-CALNAME:UCLA Communication
X-ORIGINAL-URL:https://comm.ucla.edu
X-WR-CALDESC:Events for UCLA Communication
REFRESH-INTERVAL;VALUE=DURATION:PT1H
X-Robots-Tag:noindex
X-PUBLISHED-TTL:PT1H
BEGIN:VTIMEZONE
TZID:America/Los_Angeles
BEGIN:DAYLIGHT
TZOFFSETFROM:-0800
TZOFFSETTO:-0700
TZNAME:PDT
DTSTART:20230312T100000
END:DAYLIGHT
BEGIN:STANDARD
TZOFFSETFROM:-0700
TZOFFSETTO:-0800
TZNAME:PST
DTSTART:20231105T090000
END:STANDARD
BEGIN:DAYLIGHT
TZOFFSETFROM:-0800
TZOFFSETTO:-0700
TZNAME:PDT
DTSTART:20240310T100000
END:DAYLIGHT
BEGIN:STANDARD
TZOFFSETFROM:-0700
TZOFFSETTO:-0800
TZNAME:PST
DTSTART:20241103T090000
END:STANDARD
BEGIN:DAYLIGHT
TZOFFSETFROM:-0800
TZOFFSETTO:-0700
TZNAME:PDT
DTSTART:20250309T100000
END:DAYLIGHT
BEGIN:STANDARD
TZOFFSETFROM:-0700
TZOFFSETTO:-0800
TZNAME:PST
DTSTART:20251102T090000
END:STANDARD
END:VTIMEZONE
BEGIN:VEVENT
DTSTART;TZID=America/Los_Angeles:20240510T150000
DTEND;TZID=America/Los_Angeles:20240510T163000
DTSTAMP:20260424T044215
CREATED:20240328T064612Z
LAST-MODIFIED:20240513T032752Z
UID:7235-1715353200-1715358600@comm.ucla.edu
SUMMARY:POSTPONES: CPG: Ben Epstein (DePaul)
DESCRIPTION:Title: Exploring Political Communication Strategies of Women’s Rights and LGBTQ+ Communities Over Time \n  \nAbstract: This study uses a mixed methods approach to explore the communication approaches of organizations advocating for greater political power\, access\, and representation for women and LGBTQ+ Americans over time. First\, I identify a diverse sample of organizations and publications advocating for greater political inclusion for women and LGBTQ+ Americans over the past two centuries\, with particular attention to those in the contemporary digital era. Next\, various print and digital communications efforts are analyzed\, applying a framework developed over a number of studies to compare the varied communication approaches of organizations advocating for marginalized communities. Finally\, content analysis is used to evaluate newspapers\, magazines\, social media posts and websites from these organizations and publications. Through these approaches I explore the rhetorical strategies and goals of political messages communicated by these groups by centering their words\, and find that while many notable changes have occurred\, much is remarkably consistent over time.
URL:https://comm.ucla.edu/event/cpg-ben-epstein-depaul/
LOCATION:Comm Conference Room – Rolfe 2303
CATEGORIES:Communication and Politics Group
END:VEVENT
END:VCALENDAR