BEGIN:VCALENDAR
VERSION:2.0
PRODID:-//UCLA Communication - ECPv6.15.12//NONSGML v1.0//EN
CALSCALE:GREGORIAN
METHOD:PUBLISH
X-WR-CALNAME:UCLA Communication
X-ORIGINAL-URL:https://comm.ucla.edu
X-WR-CALDESC:Events for UCLA Communication
REFRESH-INTERVAL;VALUE=DURATION:PT1H
X-Robots-Tag:noindex
X-PUBLISHED-TTL:PT1H
BEGIN:VTIMEZONE
TZID:America/Los_Angeles
BEGIN:DAYLIGHT
TZOFFSETFROM:-0800
TZOFFSETTO:-0700
TZNAME:PDT
DTSTART:20230312T100000
END:DAYLIGHT
BEGIN:STANDARD
TZOFFSETFROM:-0700
TZOFFSETTO:-0800
TZNAME:PST
DTSTART:20231105T090000
END:STANDARD
BEGIN:DAYLIGHT
TZOFFSETFROM:-0800
TZOFFSETTO:-0700
TZNAME:PDT
DTSTART:20240310T100000
END:DAYLIGHT
BEGIN:STANDARD
TZOFFSETFROM:-0700
TZOFFSETTO:-0800
TZNAME:PST
DTSTART:20241103T090000
END:STANDARD
BEGIN:DAYLIGHT
TZOFFSETFROM:-0800
TZOFFSETTO:-0700
TZNAME:PDT
DTSTART:20250309T100000
END:DAYLIGHT
BEGIN:STANDARD
TZOFFSETFROM:-0700
TZOFFSETTO:-0800
TZNAME:PST
DTSTART:20251102T090000
END:STANDARD
END:VTIMEZONE
BEGIN:VEVENT
DTSTART;TZID=America/Los_Angeles:20241010T110000
DTEND;TZID=America/Los_Angeles:20241010T121500
DTSTAMP:20260424T093332
CREATED:20240920T190121Z
LAST-MODIFIED:20240920T190139Z
UID:7822-1728558000-1728562500@comm.ucla.edu
SUMMARY:Citizens’ Perceptions on How Misinformation Distorts the News Environment w/ Toni Van der Meer (University of Amsterdam)
DESCRIPTION:
URL:https://comm.ucla.edu/event/citizens-perceptions-on-how-misinformation-distorts-the-news-environment-w-toni-van-der-meer-university-of-amsterdam/
LOCATION:Rolfe 2303
END:VEVENT
END:VCALENDAR