BEGIN:VCALENDAR
VERSION:2.0
PRODID:-//UCLA Communication - ECPv6.15.12//NONSGML v1.0//EN
CALSCALE:GREGORIAN
METHOD:PUBLISH
X-WR-CALNAME:UCLA Communication
X-ORIGINAL-URL:https://comm.ucla.edu
X-WR-CALDESC:Events for UCLA Communication
REFRESH-INTERVAL;VALUE=DURATION:PT1H
X-Robots-Tag:noindex
X-PUBLISHED-TTL:PT1H
BEGIN:VTIMEZONE
TZID:America/Los_Angeles
BEGIN:DAYLIGHT
TZOFFSETFROM:-0800
TZOFFSETTO:-0700
TZNAME:PDT
DTSTART:20230312T100000
END:DAYLIGHT
BEGIN:STANDARD
TZOFFSETFROM:-0700
TZOFFSETTO:-0800
TZNAME:PST
DTSTART:20231105T090000
END:STANDARD
BEGIN:DAYLIGHT
TZOFFSETFROM:-0800
TZOFFSETTO:-0700
TZNAME:PDT
DTSTART:20240310T100000
END:DAYLIGHT
BEGIN:STANDARD
TZOFFSETFROM:-0700
TZOFFSETTO:-0800
TZNAME:PST
DTSTART:20241103T090000
END:STANDARD
BEGIN:DAYLIGHT
TZOFFSETFROM:-0800
TZOFFSETTO:-0700
TZNAME:PDT
DTSTART:20250309T100000
END:DAYLIGHT
BEGIN:STANDARD
TZOFFSETFROM:-0700
TZOFFSETTO:-0800
TZNAME:PST
DTSTART:20251102T090000
END:STANDARD
END:VTIMEZONE
BEGIN:VEVENT
DTSTART;TZID=America/Los_Angeles:20240425T110000
DTEND;TZID=America/Los_Angeles:20240425T121500
DTSTAMP:20260424T050820
CREATED:20230918T031257Z
LAST-MODIFIED:20240416T030515Z
UID:6815-1714042800-1714047300@comm.ucla.edu
SUMMARY:Department Speaker Series: Dana Mastro (UCSB\, Communication)
DESCRIPTION:Title: Threat in the form of News: Examining the ways that news coverage of immigration constrains systemically marginalized groups\n \nAbstract: Although U.S. media portrayals of racial\, ethnic\, and other historically excluded identities vary based on the group\, platform\, and genre\, generally speaking these groups have tended to be both underrepresented and\, at times\, unfavorably depicted across the media landscape. The current talk addresses this issue with a particular focus on coverage of immigration in the news. Specifically\, the manner in which U.S. news characterizes immigration and immigrants will be addressed followed by a discussion of empirical research investigating how variations in the themes in this content affect opinions about\, feelings toward\, and behaviors regarding immigration and immigrants among both ‘dominant’ and traditionally marginalized groups.
URL:https://comm.ucla.edu/event/department-speaker-series-dana-mastro-ucsb-communication/
LOCATION:Comm Conference Room – Rolfe 2303
CATEGORIES:Department Speaker Series
END:VEVENT
END:VCALENDAR