BEGIN:VCALENDAR
VERSION:2.0
PRODID:-//UCLA Communication - ECPv6.15.12//NONSGML v1.0//EN
CALSCALE:GREGORIAN
METHOD:PUBLISH
X-ORIGINAL-URL:https://comm.ucla.edu
X-WR-CALDESC:Events for UCLA Communication
REFRESH-INTERVAL;VALUE=DURATION:PT1H
X-Robots-Tag:noindex
X-PUBLISHED-TTL:PT1H
BEGIN:VTIMEZONE
TZID:America/Los_Angeles
BEGIN:DAYLIGHT
TZOFFSETFROM:-0800
TZOFFSETTO:-0700
TZNAME:PDT
DTSTART:20250309T100000
END:DAYLIGHT
BEGIN:STANDARD
TZOFFSETFROM:-0700
TZOFFSETTO:-0800
TZNAME:PST
DTSTART:20251102T090000
END:STANDARD
BEGIN:DAYLIGHT
TZOFFSETFROM:-0800
TZOFFSETTO:-0700
TZNAME:PDT
DTSTART:20260308T100000
END:DAYLIGHT
BEGIN:STANDARD
TZOFFSETFROM:-0700
TZOFFSETTO:-0800
TZNAME:PST
DTSTART:20261101T090000
END:STANDARD
BEGIN:DAYLIGHT
TZOFFSETFROM:-0800
TZOFFSETTO:-0700
TZNAME:PDT
DTSTART:20270314T100000
END:DAYLIGHT
BEGIN:STANDARD
TZOFFSETFROM:-0700
TZOFFSETTO:-0800
TZNAME:PST
DTSTART:20271107T090000
END:STANDARD
END:VTIMEZONE
BEGIN:VEVENT
DTSTART;TZID=America/Los_Angeles:20260226T110000
DTEND;TZID=America/Los_Angeles:20260226T121500
DTSTAMP:20260425T043405
CREATED:20260210T032415Z
LAST-MODIFIED:20260210T234131Z
UID:10358-1772103600-1772108100@comm.ucla.edu
SUMMARY:Department Speaker Series: Safiya Noble - UCLA
DESCRIPTION:Data In Society\, Not Data As Society \nThe landscape of information is rapidly shifting as new imperatives and demands push to the fore increasing investment in digital technologies. Yet\, critical information scholars continue to demonstrate how digital technology and its narratives are shaped by and infused with values that are not impartial. Technologies consist of a set of social practices\, situated within the dynamics of race\, gender\, class\, and politics\, and in the service of something — a position\, a profit motive\, a means to an end. In this talk\, Dr. Safiya Umoja Noble will discuss her book\, Algorithms of Oppression\, and delve into issues ranging from marginalization and misrepresentation in commercial information platforms like Google search\, to the profound power struggles that violate civil\, human\, and collective rights through AI and machine learning projects. \n___________ \nSafiya U. Noble is the David O. Sears Presidential Endowed Chair of Social Sciences and Professor of Gender Studies\, African American Studies\, and Information Studies at UCLA.
URL:https://comm.ucla.edu/event/safiya-noble-ucla/
LOCATION:Comm Conference Room – Rolfe 2303
CATEGORIES:Department Speaker Series
END:VEVENT
BEGIN:VEVENT
DTSTART;TZID=America/Los_Angeles:20260409T110000
DTEND;TZID=America/Los_Angeles:20260409T121500
DTSTAMP:20260425T043405
CREATED:20260210T033302Z
LAST-MODIFIED:20260210T033302Z
UID:10369-1775732400-1775736900@comm.ucla.edu
SUMMARY:Department Speaker Series: Jennifer Hahn-Holbrook - UC Merced
DESCRIPTION:
URL:https://comm.ucla.edu/event/department-speaker-series-jennifer-hahn-holbrook-uc-merced/
LOCATION:Comm Conference Room – Rolfe 2303
CATEGORIES:Department Speaker Series
END:VEVENT
BEGIN:VEVENT
DTSTART;TZID=America/Los_Angeles:20260416T110000
DTEND;TZID=America/Los_Angeles:20260416T121500
DTSTAMP:20260425T043405
CREATED:20260210T033131Z
LAST-MODIFIED:20260210T033343Z
UID:10366-1776337200-1776341700@comm.ucla.edu
SUMMARY:Natalie Kahn Speaker Series: Sol Hart - University of Michigan
DESCRIPTION:
URL:https://comm.ucla.edu/event/natalie-kahn-speaker-series-sol-hart-university-of-michigan/
LOCATION:Comm Conference Room – Rolfe 2303
CATEGORIES:Department Speaker Series
END:VEVENT
BEGIN:VEVENT
DTSTART;TZID=America/Los_Angeles:20260417T170000
DTEND;TZID=America/Los_Angeles:20260417T210000
DTSTAMP:20260425T043405
CREATED:20260210T031627Z
LAST-MODIFIED:20260210T031627Z
UID:10355-1776445200-1776459600@comm.ucla.edu
SUMMARY:50th Anniversary Celebration of UCLA Communication
DESCRIPTION:Save the date for our second installment of the 50th anniversary celebration of Communication at UCLA! We will have several speakers from our history and a reception. Details to come!
URL:https://comm.ucla.edu/event/50th-anniversary-celebration-of-ucla-communication/
END:VEVENT
BEGIN:VEVENT
DTSTART;TZID=America/Los_Angeles:20260421T141500
DTEND;TZID=America/Los_Angeles:20260421T160000
DTSTAMP:20260425T043405
CREATED:20260414T162435Z
LAST-MODIFIED:20260414T162435Z
UID:10456-1776780900-1776787200@comm.ucla.edu
SUMMARY:LaGina Gause\, UCSD
DESCRIPTION:
URL:https://comm.ucla.edu/event/lagina-gause-ucsd/
LOCATION:Rolfe 2125
END:VEVENT
BEGIN:VEVENT
DTSTART;TZID=America/Los_Angeles:20260430T110000
DTEND;TZID=America/Los_Angeles:20260430T121500
DTSTAMP:20260425T043405
CREATED:20260210T033921Z
LAST-MODIFIED:20260210T033921Z
UID:10379-1777546800-1777551300@comm.ucla.edu
SUMMARY:Department Speaker Series: Nancy Molina-Rogers - UCLA
DESCRIPTION:
URL:https://comm.ucla.edu/event/department-speaker-series-nancy-molina-rogers-ucla/
LOCATION:Comm Conference Room – Rolfe 2303
CATEGORIES:Communication and Politics Group,Department Speaker Series
END:VEVENT
BEGIN:VEVENT
DTSTART;TZID=America/Los_Angeles:20260521T110000
DTEND;TZID=America/Los_Angeles:20260521T121500
DTSTAMP:20260425T043405
CREATED:20260225T021728Z
LAST-MODIFIED:20260225T022001Z
UID:10407-1779361200-1779365700@comm.ucla.edu
SUMMARY:Department Speaker Series: David Reby\, University of Saint Etienne\, France
DESCRIPTION:Beyond speech: Exploring diversity in the human voice
URL:https://comm.ucla.edu/event/department-speaker-series-david-reby-enes-bioacoustics-lab-university-of-saint-etienne/
END:VEVENT
BEGIN:VEVENT
DTSTART;TZID=America/Los_Angeles:20260521T141500
DTEND;TZID=America/Los_Angeles:20260521T160000
DTSTAMP:20260425T043405
CREATED:20260414T162532Z
LAST-MODIFIED:20260414T162532Z
UID:10459-1779372900-1779379200@comm.ucla.edu
SUMMARY:Jennifer Merolla\, UCR
DESCRIPTION:
URL:https://comm.ucla.edu/event/jennifer-merolla-ucr/
LOCATION:Rolfe 2125
END:VEVENT
BEGIN:VEVENT
DTSTART;TZID=America/Los_Angeles:20261008T110000
DTEND;TZID=America/Los_Angeles:20261008T121500
DTSTAMP:20260425T043405
CREATED:20260210T034651Z
LAST-MODIFIED:20260225T021520Z
UID:10386-1791457200-1791461700@comm.ucla.edu
SUMMARY:Department Speaker Series: Eloise Pedersen - USC
DESCRIPTION:Who Should I Ape? Simultaneous Conflicting Social Learning Strategies in Children and Chimpanzees (Pan troglodytes)
URL:https://comm.ucla.edu/event/department-speaker-series-eloise-pedersen-usc-2/
CATEGORIES:Department Speaker Series
END:VEVENT
END:VCALENDAR