BEGIN:VCALENDAR
VERSION:2.0
PRODID:-//UCLA Communication - ECPv6.15.12//NONSGML v1.0//EN
CALSCALE:GREGORIAN
METHOD:PUBLISH
X-WR-CALNAME:UCLA Communication
X-ORIGINAL-URL:https://comm.ucla.edu
X-WR-CALDESC:Events for UCLA Communication
REFRESH-INTERVAL;VALUE=DURATION:PT1H
X-Robots-Tag:noindex
X-PUBLISHED-TTL:PT1H
BEGIN:VTIMEZONE
TZID:America/Los_Angeles
BEGIN:DAYLIGHT
TZOFFSETFROM:-0800
TZOFFSETTO:-0700
TZNAME:PDT
DTSTART:19690427T100000
END:DAYLIGHT
BEGIN:STANDARD
TZOFFSETFROM:-0700
TZOFFSETTO:-0800
TZNAME:PST
DTSTART:19691026T090000
END:STANDARD
BEGIN:DAYLIGHT
TZOFFSETFROM:-0800
TZOFFSETTO:-0700
TZNAME:PDT
DTSTART:19700426T100000
END:DAYLIGHT
BEGIN:STANDARD
TZOFFSETFROM:-0700
TZOFFSETTO:-0800
TZNAME:PST
DTSTART:19701025T090000
END:STANDARD
BEGIN:DAYLIGHT
TZOFFSETFROM:-0800
TZOFFSETTO:-0700
TZNAME:PDT
DTSTART:19710425T100000
END:DAYLIGHT
BEGIN:STANDARD
TZOFFSETFROM:-0700
TZOFFSETTO:-0800
TZNAME:PST
DTSTART:19711031T090000
END:STANDARD
BEGIN:DAYLIGHT
TZOFFSETFROM:-0800
TZOFFSETTO:-0700
TZNAME:PDT
DTSTART:19720430T100000
END:DAYLIGHT
BEGIN:STANDARD
TZOFFSETFROM:-0700
TZOFFSETTO:-0800
TZNAME:PST
DTSTART:19721029T090000
END:STANDARD
BEGIN:DAYLIGHT
TZOFFSETFROM:-0800
TZOFFSETTO:-0700
TZNAME:PDT
DTSTART:19730429T100000
END:DAYLIGHT
BEGIN:STANDARD
TZOFFSETFROM:-0700
TZOFFSETTO:-0800
TZNAME:PST
DTSTART:19731028T090000
END:STANDARD
BEGIN:DAYLIGHT
TZOFFSETFROM:-0800
TZOFFSETTO:-0700
TZNAME:PDT
DTSTART:19740106T100000
END:DAYLIGHT
BEGIN:STANDARD
TZOFFSETFROM:-0700
TZOFFSETTO:-0800
TZNAME:PST
DTSTART:19741027T090000
END:STANDARD
BEGIN:DAYLIGHT
TZOFFSETFROM:-0800
TZOFFSETTO:-0700
TZNAME:PDT
DTSTART:19750223T100000
END:DAYLIGHT
BEGIN:STANDARD
TZOFFSETFROM:-0700
TZOFFSETTO:-0800
TZNAME:PST
DTSTART:19751026T090000
END:STANDARD
BEGIN:DAYLIGHT
TZOFFSETFROM:-0800
TZOFFSETTO:-0700
TZNAME:PDT
DTSTART:19760425T100000
END:DAYLIGHT
BEGIN:STANDARD
TZOFFSETFROM:-0700
TZOFFSETTO:-0800
TZNAME:PST
DTSTART:19761031T090000
END:STANDARD
BEGIN:DAYLIGHT
TZOFFSETFROM:-0800
TZOFFSETTO:-0700
TZNAME:PDT
DTSTART:19770424T100000
END:DAYLIGHT
BEGIN:STANDARD
TZOFFSETFROM:-0700
TZOFFSETTO:-0800
TZNAME:PST
DTSTART:19771030T090000
END:STANDARD
BEGIN:DAYLIGHT
TZOFFSETFROM:-0800
TZOFFSETTO:-0700
TZNAME:PDT
DTSTART:19780430T100000
END:DAYLIGHT
BEGIN:STANDARD
TZOFFSETFROM:-0700
TZOFFSETTO:-0800
TZNAME:PST
DTSTART:19781029T090000
END:STANDARD
BEGIN:DAYLIGHT
TZOFFSETFROM:-0800
TZOFFSETTO:-0700
TZNAME:PDT
DTSTART:19790429T100000
END:DAYLIGHT
BEGIN:STANDARD
TZOFFSETFROM:-0700
TZOFFSETTO:-0800
TZNAME:PST
DTSTART:19791028T090000
END:STANDARD
BEGIN:DAYLIGHT
TZOFFSETFROM:-0800
TZOFFSETTO:-0700
TZNAME:PDT
DTSTART:19800427T100000
END:DAYLIGHT
BEGIN:STANDARD
TZOFFSETFROM:-0700
TZOFFSETTO:-0800
TZNAME:PST
DTSTART:19801026T090000
END:STANDARD
BEGIN:DAYLIGHT
TZOFFSETFROM:-0800
TZOFFSETTO:-0700
TZNAME:PDT
DTSTART:19810426T100000
END:DAYLIGHT
BEGIN:STANDARD
TZOFFSETFROM:-0700
TZOFFSETTO:-0800
TZNAME:PST
DTSTART:19811025T090000
END:STANDARD
BEGIN:DAYLIGHT
TZOFFSETFROM:-0800
TZOFFSETTO:-0700
TZNAME:PDT
DTSTART:19820425T100000
END:DAYLIGHT
BEGIN:STANDARD
TZOFFSETFROM:-0700
TZOFFSETTO:-0800
TZNAME:PST
DTSTART:19821031T090000
END:STANDARD
BEGIN:DAYLIGHT
TZOFFSETFROM:-0800
TZOFFSETTO:-0700
TZNAME:PDT
DTSTART:19830424T100000
END:DAYLIGHT
BEGIN:STANDARD
TZOFFSETFROM:-0700
TZOFFSETTO:-0800
TZNAME:PST
DTSTART:19831030T090000
END:STANDARD
BEGIN:DAYLIGHT
TZOFFSETFROM:-0800
TZOFFSETTO:-0700
TZNAME:PDT
DTSTART:19840429T100000
END:DAYLIGHT
BEGIN:STANDARD
TZOFFSETFROM:-0700
TZOFFSETTO:-0800
TZNAME:PST
DTSTART:19841028T090000
END:STANDARD
BEGIN:DAYLIGHT
TZOFFSETFROM:-0800
TZOFFSETTO:-0700
TZNAME:PDT
DTSTART:19850428T100000
END:DAYLIGHT
BEGIN:STANDARD
TZOFFSETFROM:-0700
TZOFFSETTO:-0800
TZNAME:PST
DTSTART:19851027T090000
END:STANDARD
BEGIN:DAYLIGHT
TZOFFSETFROM:-0800
TZOFFSETTO:-0700
TZNAME:PDT
DTSTART:19860427T100000
END:DAYLIGHT
BEGIN:STANDARD
TZOFFSETFROM:-0700
TZOFFSETTO:-0800
TZNAME:PST
DTSTART:19861026T090000
END:STANDARD
BEGIN:DAYLIGHT
TZOFFSETFROM:-0800
TZOFFSETTO:-0700
TZNAME:PDT
DTSTART:19870405T100000
END:DAYLIGHT
BEGIN:STANDARD
TZOFFSETFROM:-0700
TZOFFSETTO:-0800
TZNAME:PST
DTSTART:19871025T090000
END:STANDARD
BEGIN:DAYLIGHT
TZOFFSETFROM:-0800
TZOFFSETTO:-0700
TZNAME:PDT
DTSTART:19880403T100000
END:DAYLIGHT
BEGIN:STANDARD
TZOFFSETFROM:-0700
TZOFFSETTO:-0800
TZNAME:PST
DTSTART:19881030T090000
END:STANDARD
BEGIN:DAYLIGHT
TZOFFSETFROM:-0800
TZOFFSETTO:-0700
TZNAME:PDT
DTSTART:19890402T100000
END:DAYLIGHT
BEGIN:STANDARD
TZOFFSETFROM:-0700
TZOFFSETTO:-0800
TZNAME:PST
DTSTART:19891029T090000
END:STANDARD
BEGIN:DAYLIGHT
TZOFFSETFROM:-0800
TZOFFSETTO:-0700
TZNAME:PDT
DTSTART:19900401T100000
END:DAYLIGHT
BEGIN:STANDARD
TZOFFSETFROM:-0700
TZOFFSETTO:-0800
TZNAME:PST
DTSTART:19901028T090000
END:STANDARD
BEGIN:DAYLIGHT
TZOFFSETFROM:-0800
TZOFFSETTO:-0700
TZNAME:PDT
DTSTART:19910407T100000
END:DAYLIGHT
BEGIN:STANDARD
TZOFFSETFROM:-0700
TZOFFSETTO:-0800
TZNAME:PST
DTSTART:19911027T090000
END:STANDARD
BEGIN:DAYLIGHT
TZOFFSETFROM:-0800
TZOFFSETTO:-0700
TZNAME:PDT
DTSTART:19920405T100000
END:DAYLIGHT
BEGIN:STANDARD
TZOFFSETFROM:-0700
TZOFFSETTO:-0800
TZNAME:PST
DTSTART:19921025T090000
END:STANDARD
BEGIN:DAYLIGHT
TZOFFSETFROM:-0800
TZOFFSETTO:-0700
TZNAME:PDT
DTSTART:19930404T100000
END:DAYLIGHT
BEGIN:STANDARD
TZOFFSETFROM:-0700
TZOFFSETTO:-0800
TZNAME:PST
DTSTART:19931031T090000
END:STANDARD
BEGIN:DAYLIGHT
TZOFFSETFROM:-0800
TZOFFSETTO:-0700
TZNAME:PDT
DTSTART:19940403T100000
END:DAYLIGHT
BEGIN:STANDARD
TZOFFSETFROM:-0700
TZOFFSETTO:-0800
TZNAME:PST
DTSTART:19941030T090000
END:STANDARD
BEGIN:DAYLIGHT
TZOFFSETFROM:-0800
TZOFFSETTO:-0700
TZNAME:PDT
DTSTART:19950402T100000
END:DAYLIGHT
BEGIN:STANDARD
TZOFFSETFROM:-0700
TZOFFSETTO:-0800
TZNAME:PST
DTSTART:19951029T090000
END:STANDARD
BEGIN:DAYLIGHT
TZOFFSETFROM:-0800
TZOFFSETTO:-0700
TZNAME:PDT
DTSTART:19960407T100000
END:DAYLIGHT
BEGIN:STANDARD
TZOFFSETFROM:-0700
TZOFFSETTO:-0800
TZNAME:PST
DTSTART:19961027T090000
END:STANDARD
BEGIN:DAYLIGHT
TZOFFSETFROM:-0800
TZOFFSETTO:-0700
TZNAME:PDT
DTSTART:19970406T100000
END:DAYLIGHT
BEGIN:STANDARD
TZOFFSETFROM:-0700
TZOFFSETTO:-0800
TZNAME:PST
DTSTART:19971026T090000
END:STANDARD
BEGIN:DAYLIGHT
TZOFFSETFROM:-0800
TZOFFSETTO:-0700
TZNAME:PDT
DTSTART:19980405T100000
END:DAYLIGHT
BEGIN:STANDARD
TZOFFSETFROM:-0700
TZOFFSETTO:-0800
TZNAME:PST
DTSTART:19981025T090000
END:STANDARD
BEGIN:DAYLIGHT
TZOFFSETFROM:-0800
TZOFFSETTO:-0700
TZNAME:PDT
DTSTART:19990404T100000
END:DAYLIGHT
BEGIN:STANDARD
TZOFFSETFROM:-0700
TZOFFSETTO:-0800
TZNAME:PST
DTSTART:19991031T090000
END:STANDARD
BEGIN:DAYLIGHT
TZOFFSETFROM:-0800
TZOFFSETTO:-0700
TZNAME:PDT
DTSTART:20000402T100000
END:DAYLIGHT
BEGIN:STANDARD
TZOFFSETFROM:-0700
TZOFFSETTO:-0800
TZNAME:PST
DTSTART:20001029T090000
END:STANDARD
BEGIN:DAYLIGHT
TZOFFSETFROM:-0800
TZOFFSETTO:-0700
TZNAME:PDT
DTSTART:20010401T100000
END:DAYLIGHT
BEGIN:STANDARD
TZOFFSETFROM:-0700
TZOFFSETTO:-0800
TZNAME:PST
DTSTART:20011028T090000
END:STANDARD
BEGIN:DAYLIGHT
TZOFFSETFROM:-0800
TZOFFSETTO:-0700
TZNAME:PDT
DTSTART:20020407T100000
END:DAYLIGHT
BEGIN:STANDARD
TZOFFSETFROM:-0700
TZOFFSETTO:-0800
TZNAME:PST
DTSTART:20021027T090000
END:STANDARD
BEGIN:DAYLIGHT
TZOFFSETFROM:-0800
TZOFFSETTO:-0700
TZNAME:PDT
DTSTART:20030406T100000
END:DAYLIGHT
BEGIN:STANDARD
TZOFFSETFROM:-0700
TZOFFSETTO:-0800
TZNAME:PST
DTSTART:20031026T090000
END:STANDARD
BEGIN:DAYLIGHT
TZOFFSETFROM:-0800
TZOFFSETTO:-0700
TZNAME:PDT
DTSTART:20040404T100000
END:DAYLIGHT
BEGIN:STANDARD
TZOFFSETFROM:-0700
TZOFFSETTO:-0800
TZNAME:PST
DTSTART:20041031T090000
END:STANDARD
BEGIN:DAYLIGHT
TZOFFSETFROM:-0800
TZOFFSETTO:-0700
TZNAME:PDT
DTSTART:20050403T100000
END:DAYLIGHT
BEGIN:STANDARD
TZOFFSETFROM:-0700
TZOFFSETTO:-0800
TZNAME:PST
DTSTART:20051030T090000
END:STANDARD
BEGIN:DAYLIGHT
TZOFFSETFROM:-0800
TZOFFSETTO:-0700
TZNAME:PDT
DTSTART:20060402T100000
END:DAYLIGHT
BEGIN:STANDARD
TZOFFSETFROM:-0700
TZOFFSETTO:-0800
TZNAME:PST
DTSTART:20061029T090000
END:STANDARD
BEGIN:DAYLIGHT
TZOFFSETFROM:-0800
TZOFFSETTO:-0700
TZNAME:PDT
DTSTART:20070311T100000
END:DAYLIGHT
BEGIN:STANDARD
TZOFFSETFROM:-0700
TZOFFSETTO:-0800
TZNAME:PST
DTSTART:20071104T090000
END:STANDARD
BEGIN:DAYLIGHT
TZOFFSETFROM:-0800
TZOFFSETTO:-0700
TZNAME:PDT
DTSTART:20080309T100000
END:DAYLIGHT
BEGIN:STANDARD
TZOFFSETFROM:-0700
TZOFFSETTO:-0800
TZNAME:PST
DTSTART:20081102T090000
END:STANDARD
BEGIN:DAYLIGHT
TZOFFSETFROM:-0800
TZOFFSETTO:-0700
TZNAME:PDT
DTSTART:20090308T100000
END:DAYLIGHT
BEGIN:STANDARD
TZOFFSETFROM:-0700
TZOFFSETTO:-0800
TZNAME:PST
DTSTART:20091101T090000
END:STANDARD
BEGIN:DAYLIGHT
TZOFFSETFROM:-0800
TZOFFSETTO:-0700
TZNAME:PDT
DTSTART:20100314T100000
END:DAYLIGHT
BEGIN:STANDARD
TZOFFSETFROM:-0700
TZOFFSETTO:-0800
TZNAME:PST
DTSTART:20101107T090000
END:STANDARD
BEGIN:DAYLIGHT
TZOFFSETFROM:-0800
TZOFFSETTO:-0700
TZNAME:PDT
DTSTART:20110313T100000
END:DAYLIGHT
BEGIN:STANDARD
TZOFFSETFROM:-0700
TZOFFSETTO:-0800
TZNAME:PST
DTSTART:20111106T090000
END:STANDARD
BEGIN:DAYLIGHT
TZOFFSETFROM:-0800
TZOFFSETTO:-0700
TZNAME:PDT
DTSTART:20120311T100000
END:DAYLIGHT
BEGIN:STANDARD
TZOFFSETFROM:-0700
TZOFFSETTO:-0800
TZNAME:PST
DTSTART:20121104T090000
END:STANDARD
BEGIN:DAYLIGHT
TZOFFSETFROM:-0800
TZOFFSETTO:-0700
TZNAME:PDT
DTSTART:20130310T100000
END:DAYLIGHT
BEGIN:STANDARD
TZOFFSETFROM:-0700
TZOFFSETTO:-0800
TZNAME:PST
DTSTART:20131103T090000
END:STANDARD
BEGIN:DAYLIGHT
TZOFFSETFROM:-0800
TZOFFSETTO:-0700
TZNAME:PDT
DTSTART:20140309T100000
END:DAYLIGHT
BEGIN:STANDARD
TZOFFSETFROM:-0700
TZOFFSETTO:-0800
TZNAME:PST
DTSTART:20141102T090000
END:STANDARD
END:VTIMEZONE
BEGIN:VEVENT
DTSTART;TZID=America/Los_Angeles:20131114T140000
DTEND;TZID=America/Los_Angeles:20131114T150000
DTSTAMP:20260425T071300
CREATED:20201001T185309Z
LAST-MODIFIED:20201001T185309Z
UID:3420-1384437600-1384441200@comm.ucla.edu
SUMMARY:Benjamin Lewis talk on the Future of Deaf Culture in America
DESCRIPTION:Comm Studies lecturer Benjamin Lewis (and Prof. Carol Padden\, of UCSD’s Communication Department) will discuss cultural and social forces that shape the Deaf community in the U.S.
URL:https://comm.ucla.edu/event/benjamin-lewis-talk-on-the-future-of-deaf-culture-in-america/
END:VEVENT
BEGIN:VEVENT
DTSTART;TZID=America/Los_Angeles:20131113T120000
DTEND;TZID=America/Los_Angeles:20131113T120000
DTSTAMP:20260425T071300
CREATED:20201001T185309Z
LAST-MODIFIED:20201001T185309Z
UID:3421-1384344000-1384344000@comm.ucla.edu
SUMMARY:Scott Johnson: Using Small Groups for Large Class Assessment
DESCRIPTION:Scott Johnson (UCLA Dept. of Psychology) will be sharing his experiences with assessing student learning in large classroom environments. He will be discussing how and why he has moved away from using written exams in favor of having students assessed through small-group interactions.
URL:https://comm.ucla.edu/event/scott-johnson-using-small-groups-for-large-class-assessment/
END:VEVENT
BEGIN:VEVENT
DTSTART;TZID=America/Los_Angeles:20131112T121500
DTEND;TZID=America/Los_Angeles:20131112T121500
DTSTAMP:20260425T071300
CREATED:20201001T185309Z
LAST-MODIFIED:20201001T185309Z
UID:3419-1384258500-1384258500@comm.ucla.edu
SUMMARY:Shanto Iyengar Speaks on "Fear and Loathing Across Party Lines: New Measures of Polarization"
DESCRIPTION:Shanto Iyengar will be speaking to the American Politics Workshop on the topic “Fear and Loathing Across Party Lines: New Measures of Polarization.” The talk is co-sponsored by Communication Studies.Iyengar holds a joint appointment as the Harry and Norman Chandler Chair in Communication and Professor of Political Science at Stanford University. Iyengar is also a senior fellow (by courtesy) at the Hoover Institution.Abstract:When defined in terms of social identity and affect toward in- and out-groups\, the polarization of the American electorate has clearly increased. We document the scope and consequences of affective polarization using implicit\, explicit\, and behavioral indicators. Our evidence demonstrates not only that hostile feelings for the out-party are ingrained or automatic in voters’ psyches\, but also that affective polarization based on party surpasses polarization based on race and other social cleavages. After documenting the extent of implicit party polarization\, we show that party cues exert powerful effects on non-political judgments and behaviors. Partisans discriminate against out partisans\, and do so to a degree that exceeds discrimination based on race. In concluding\, we note that heightened partisan affect and the intrusion of partisan bias into non-political domains means that American parties now resemble the model of the “mass membership” party.
URL:https://comm.ucla.edu/event/shanto-iyengar-speaks-on-fear-and-loathing-across-party-lines-new-measures-of-polarization/
END:VEVENT
BEGIN:VEVENT
DTSTART;TZID=America/Los_Angeles:20130913T140000
DTEND;TZID=America/Los_Angeles:20130913T160000
DTSTAMP:20260425T071300
CREATED:20201001T185309Z
LAST-MODIFIED:20201001T185309Z
UID:3418-1379080800-1379088000@comm.ucla.edu
SUMMARY:Startup UCLA Demo Day 2013
DESCRIPTION:Save the date! The event will feature presentations from two companies founded by Comm Studies alumni (Jude Baldo ’13 and Jonesy Harp ’11).
URL:https://comm.ucla.edu/event/startup-ucla-demo-day-2013/
END:VEVENT
BEGIN:VEVENT
DTSTART;TZID=America/Los_Angeles:20130616T103000
DTEND;TZID=America/Los_Angeles:20130616T120000
DTSTAMP:20260425T071300
CREATED:20201001T185309Z
LAST-MODIFIED:20201001T185309Z
UID:3417-1371378600-1371384000@comm.ucla.edu
SUMMARY:2013 Graduation!
DESCRIPTION:The C.S. Graduation Ceremony will be held on Sunday\, June 16th\, in Royce Hall. The event will start at 10:30 a.m.\, and our Keynote Speaker is Andrew Lenchewski (Creator/Executive Producer/Writer of Royal Pains). He graduated from Comm Studies in 1998. We are looking forward to seeing you there!
URL:https://comm.ucla.edu/event/2013-graduation/
END:VEVENT
BEGIN:VEVENT
DTSTART;TZID=America/Los_Angeles:20130603T140000
DTEND;TZID=America/Los_Angeles:20130603T153000
DTSTAMP:20260425T071300
CREATED:20201001T185309Z
LAST-MODIFIED:20201001T185309Z
UID:3416-1370268000-1370273400@comm.ucla.edu
SUMMARY:The Myth of Partisan Echo Chambers and Media Bias
DESCRIPTION:Michael LaCour – Ph.D Candidate in Political Science and StatisticsThe Myth of Partisan Echo Chambers and Media Bias: Empirical Evidence Online and Offline from 1940 to 2011
URL:https://comm.ucla.edu/event/the-myth-of-partisan-echo-chambers-and-media-bias/
END:VEVENT
BEGIN:VEVENT
DTSTART;TZID=America/Los_Angeles:20130530T170000
DTEND;TZID=America/Los_Angeles:20130530T170000
DTSTAMP:20260425T071300
CREATED:20201001T185309Z
LAST-MODIFIED:20201001T185309Z
UID:3415-1369933200-1369933200@comm.ucla.edu
SUMMARY:Second Annual Luskin Lecture for Thought Leadership
DESCRIPTION:Laura Ling (’98) will be moderating a talk by Kofi Annan Thursday\, May 30\, 2013 at 5:00 p.m. in Royce Hall. The talk is titled Interventions: A Life in War and Peace and is the Second Annual Luskin Lecture for Thought Leadership.Ticket and other info can be found here: http://bit.ly/zLz7s1
URL:https://comm.ucla.edu/event/second-annual-luskin-lecture-for-thought-leadership/
END:VEVENT
BEGIN:VEVENT
DTSTART;TZID=America/Los_Angeles:20130422T120000
DTEND;TZID=America/Los_Angeles:20130422T133000
DTSTAMP:20260425T071300
CREATED:20201001T185309Z
LAST-MODIFIED:20201001T185309Z
UID:3408-1366632000-1366637400@comm.ucla.edu
SUMMARY:BEC - Nancy Segal
DESCRIPTION:Twins!!Califonia
URL:https://comm.ucla.edu/event/bec-nancy-segal/
END:VEVENT
BEGIN:VEVENT
DTSTART;TZID=America/Los_Angeles:20101119T100000
DTEND;TZID=America/Los_Angeles:20101119T113000
DTSTAMP:20260425T071300
CREATED:20201001T185309Z
LAST-MODIFIED:20201001T185309Z
UID:3410-1290160800-1290166200@comm.ucla.edu
SUMMARY:Brown Bag Talk: Travis Dixon - How Media Consumption Contributes to the Formation and Maintenance of Racial Stereotypes
DESCRIPTION:UCLA Communication Studies Brownbag TalkTravis DixonAssoc. Professor\, University of Illinois\, Dept. of CommunicationHow media consumption contributes to the formation and maintenance of racial stereotypes.
URL:https://comm.ucla.edu/event/brown-bag-talk-travis-dixon-how-media-consumption-contributes-to-the-formation-and-maintenance-of-racial-stereotypes/
END:VEVENT
BEGIN:VEVENT
DTSTART;TZID=America/Los_Angeles:20101112T130000
DTEND;TZID=America/Los_Angeles:20101112T140000
DTSTAMP:20260425T071300
CREATED:20201001T185309Z
LAST-MODIFIED:20201001T185309Z
UID:3412-1289566800-1289570400@comm.ucla.edu
SUMMARY:Brown Bag Talk: Raymond Nasr - Retweet This: Comm Majors Are Now In The Driver's Seat In Silicon Valley
DESCRIPTION:UCLA Communication Studies Alumni TalkRaymond NasrUCLA Communication Studies ’84Cambridge University ’86Retweet This:Comm Majors Are Now In TheDriver’s Seat In Silicon Valley
URL:https://comm.ucla.edu/event/brown-bag-talk-raymond-nasr-retweet-this-comm-majors-are-now-in-the-drivers-seat-in-silicon-valley/
END:VEVENT
BEGIN:VEVENT
DTSTART;TZID=America/Los_Angeles:20100603T100000
DTEND;TZID=America/Los_Angeles:20100603T110000
DTSTAMP:20260425T071300
CREATED:20201001T185309Z
LAST-MODIFIED:20201001T185309Z
UID:3414-1275559200-1275562800@comm.ucla.edu
SUMMARY:Brown Bag Talk: Emily Falk - How The Brain Changes Its Mind: Neural Prediction Of Behavior Change In Response To Persuasive Messages
DESCRIPTION:UCLA Communication Studies BrownbagEmily FalkAssistant Professor\, Comminication Studies\, University of Michigan\, Ann ArborHow The BrainChanges Its Mind:Neural Prediction Of Behavior Change In Response To Persuasive Messages
URL:https://comm.ucla.edu/event/brown-bag-talk-emily-falk-how-the-brain-changes-its-mind-neural-prediction-of-behavior-change-in-response-to-persuasive-messages/
END:VEVENT
BEGIN:VEVENT
DTSTART;TZID=America/Los_Angeles:20100408T110000
DTEND;TZID=America/Los_Angeles:20100408T120000
DTSTAMP:20260425T071300
CREATED:20201001T185309Z
LAST-MODIFIED:20201001T185309Z
UID:3411-1270724400-1270728000@comm.ucla.edu
SUMMARY:Brown Bag Talk: Rowell Huesmann - Why Those Who Observe Violence Behave Violently
DESCRIPTION:UCLA Communication Studies Brownbag TalkRowell HuesmannProfessor of Communication Studies and Psychology\, University of Michigan\, Ann ArborWhy Those who Observe Violence Behave Violently
URL:https://comm.ucla.edu/event/brown-bag-talk-rowell-huesmann-why-those-who-observe-violence-behave-violently/
END:VEVENT
BEGIN:VEVENT
DTSTART;TZID=America/Los_Angeles:20100222T103000
DTEND;TZID=America/Los_Angeles:20100222T113000
DTSTAMP:20260425T071300
CREATED:20201001T185309Z
LAST-MODIFIED:20201001T185309Z
UID:3413-1266834600-1266838200@comm.ucla.edu
SUMMARY:Brown Bag Talk: Ramesh Srinivasan - Global 'New' Media: Considering The Importance Of Culture In Shaping Digital And Social Systems
DESCRIPTION:UCLA Communication Studies BrownbagRamesh SrinivasanAssistan Professor\, Information StudiesGlobal ‘New’ Media:Considering The Importance Of Culture InShaping Digital And Social Systems
URL:https://comm.ucla.edu/event/brown-bag-talk-ramesh-srinivasan-global-new-media-considering-the-importance-of-culture-in-shaping-digital-and-social-systems/
END:VEVENT
BEGIN:VEVENT
DTSTART;TZID=America/Los_Angeles:20100125T110000
DTEND;TZID=America/Los_Angeles:20100125T120000
DTSTAMP:20260425T071300
CREATED:20201001T185309Z
LAST-MODIFIED:20201001T185309Z
UID:3409-1264417200-1264420800@comm.ucla.edu
SUMMARY:Brown Bag Talk: John Zaller - What is Ideology?
DESCRIPTION:UCLA Communication Studies BrownbagJohn ZallerProfessor\, UCLA Political Science DepartmentLiberals and Conservatives disagree about almost everything.They say their views are due to ideology.What is Ideology?
URL:https://comm.ucla.edu/event/brown-bag-talk-john-zaller-what-is-ideology/
END:VEVENT
BEGIN:VEVENT
DTSTART;TZID=America/Los_Angeles:20260425T071300
DTEND;TZID=America/Los_Angeles:20260425T071300
DTSTAMP:20260425T071300
CREATED:20201001T185310Z
LAST-MODIFIED:20201001T185310Z
UID:3436-0-0@comm.ucla.edu
SUMMARY:Winter Quarter Instruction Begins
DESCRIPTION:If you are still looking for a class to take this summer\, checkout the excellent Communicatino Studies winter courses!http://www.registrar.ucla.edu/schedule/crsredir.aspx?termsel=15W&subarea…
URL:https://comm.ucla.edu/event/winter-quarter-instruction-begins/
END:VEVENT
BEGIN:VEVENT
DTSTART;TZID=America/Los_Angeles:20260425T071300
DTEND;TZID=America/Los_Angeles:20260425T071300
DTSTAMP:20260425T071300
CREATED:20201001T185310Z
LAST-MODIFIED:20201001T185310Z
UID:3437-0-0@comm.ucla.edu
SUMMARY:Winter Quarter Ends
DESCRIPTION:
URL:https://comm.ucla.edu/event/winter-quarter-ends/
END:VEVENT
BEGIN:VEVENT
DTSTART;TZID=America/Los_Angeles:20260425T071300
DTEND;TZID=America/Los_Angeles:20260425T071300
DTSTAMP:20260425T071300
CREATED:20201001T185310Z
LAST-MODIFIED:20201001T185310Z
UID:3438-0-0@comm.ucla.edu
SUMMARY:Spring Quarter Instruction Begins
DESCRIPTION:If you are still looking for a class to take this spring\, checkout the incredible Communicatino Studies spring courses!http://www.registrar.ucla.edu/schedule/crsredir.aspx?termsel=15S&subarea…
URL:https://comm.ucla.edu/event/spring-quarter-instruction-begins/
END:VEVENT
BEGIN:VEVENT
DTSTART;TZID=America/Los_Angeles:20260425T071300
DTEND;TZID=America/Los_Angeles:20260425T071300
DTSTAMP:20260425T071300
CREATED:20201001T185310Z
LAST-MODIFIED:20201001T185310Z
UID:3439-0-0@comm.ucla.edu
SUMMARY:Spring Quarter Ends
DESCRIPTION:
URL:https://comm.ucla.edu/event/spring-quarter-ends/
END:VEVENT
BEGIN:VEVENT
DTSTART;TZID=America/Los_Angeles:20260425T071300
DTEND;TZID=America/Los_Angeles:20260425T071300
DTSTAMP:20260425T071300
CREATED:20201001T185310Z
LAST-MODIFIED:20201001T185310Z
UID:3432-0-0@comm.ucla.edu
SUMMARY:Summer Session A Instruction Begins
DESCRIPTION:If you are still looking for a class to take this summer\, checkout the fabulous Communicatino Studies Summer Session Courses!
URL:https://comm.ucla.edu/event/summer-session-a-instruction-begins/
END:VEVENT
BEGIN:VEVENT
DTSTART;TZID=America/Los_Angeles:20260425T071300
DTEND;TZID=America/Los_Angeles:20260425T071300
DTSTAMP:20260425T071300
CREATED:20201001T185310Z
LAST-MODIFIED:20201001T185310Z
UID:3467-0-0@comm.ucla.edu
SUMMARY:Communication Studies students at Undergraduate Research Week
DESCRIPTION:The following Communication Studies students will be presenting their work at the 2015 Undergraduate Research Week:Oral Presentations (Powell Library second floor):Nicole Nour: Friday\, May 15 from 12:00-1:00pmYerin Yoon: Friday\, May 15 from 12:00-1:00pmPoster Sessions (Powell Library rotunda):Omar Nieto: Thursday\, May 14 from 12:00-1:00pmClick here for more information:  
URL:https://comm.ucla.edu/event/communication-studies-students-at-undergraduate-research-week/
END:VEVENT
BEGIN:VEVENT
DTSTART;TZID=America/Los_Angeles:20260425T071300
DTEND;TZID=America/Los_Angeles:20260425T071300
DTSTAMP:20260425T071300
CREATED:20201001T185310Z
LAST-MODIFIED:20201001T185310Z
UID:3433-0-0@comm.ucla.edu
SUMMARY:Summer Session C Instruction Begins
DESCRIPTION:If you are still looking for a class to take this summer\, checkout the fabulous Communicatino Studies Summer Session Courses!
URL:https://comm.ucla.edu/event/summer-session-c-instruction-begins/
END:VEVENT
BEGIN:VEVENT
DTSTART;TZID=America/Los_Angeles:20260425T071300
DTEND;TZID=America/Los_Angeles:20260425T071300
DTSTAMP:20260425T071300
CREATED:20201001T185310Z
LAST-MODIFIED:20201001T185310Z
UID:3434-0-0@comm.ucla.edu
SUMMARY:Fall Quarter Instruction Begins
DESCRIPTION:If you are still looking for a class to take this fall\, checkout the fantastic Communicatino Studies fall courses!http://www.registrar.ucla.edu/schedule/detmain.aspx?termsel=14F&subareas…
URL:https://comm.ucla.edu/event/fall-quarter-instruction-begins/
END:VEVENT
BEGIN:VEVENT
DTSTART;TZID=America/Los_Angeles:20260425T071300
DTEND;TZID=America/Los_Angeles:20260425T071300
DTSTAMP:20260425T071300
CREATED:20201001T185310Z
LAST-MODIFIED:20201001T185310Z
UID:3435-0-0@comm.ucla.edu
SUMMARY:Fall Quarter Ends
DESCRIPTION:
URL:https://comm.ucla.edu/event/fall-quarter-ends/
END:VEVENT
BEGIN:VEVENT
DTSTART;TZID=America/Los_Angeles:20260425T071300
DTEND;TZID=America/Los_Angeles:20260425T071300
DTSTAMP:20260425T071300
CREATED:20201001T185309Z
LAST-MODIFIED:20201001T185309Z
UID:3493-0-0@comm.ucla.edu
SUMMARY:Application Deadline - PhD Program (Fall 2020)
DESCRIPTION:The application for our new PhD program closes December 15\, 2019. Admission is for Fall 2020. For more information or to apply\, visit https://comm.ucla.edu/graduate/admissions. Questions can be directed to gradprogram@comm.ucla.edu.
URL:https://comm.ucla.edu/event/application-deadline-phd-program-fall-2020/
END:VEVENT
END:VCALENDAR