BEGIN:VCALENDAR
VERSION:2.0
PRODID:-//UCLA Communication - ECPv6.15.12//NONSGML v1.0//EN
CALSCALE:GREGORIAN
METHOD:PUBLISH
X-WR-CALNAME:UCLA Communication
X-ORIGINAL-URL:https://comm.ucla.edu
X-WR-CALDESC:Events for UCLA Communication
REFRESH-INTERVAL;VALUE=DURATION:PT1H
X-Robots-Tag:noindex
X-PUBLISHED-TTL:PT1H
BEGIN:VTIMEZONE
TZID:America/Los_Angeles
BEGIN:DAYLIGHT
TZOFFSETFROM:-0800
TZOFFSETTO:-0700
TZNAME:PDT
DTSTART:19690427T100000
END:DAYLIGHT
BEGIN:STANDARD
TZOFFSETFROM:-0700
TZOFFSETTO:-0800
TZNAME:PST
DTSTART:19691026T090000
END:STANDARD
BEGIN:DAYLIGHT
TZOFFSETFROM:-0800
TZOFFSETTO:-0700
TZNAME:PDT
DTSTART:19700426T100000
END:DAYLIGHT
BEGIN:STANDARD
TZOFFSETFROM:-0700
TZOFFSETTO:-0800
TZNAME:PST
DTSTART:19701025T090000
END:STANDARD
BEGIN:DAYLIGHT
TZOFFSETFROM:-0800
TZOFFSETTO:-0700
TZNAME:PDT
DTSTART:19710425T100000
END:DAYLIGHT
BEGIN:STANDARD
TZOFFSETFROM:-0700
TZOFFSETTO:-0800
TZNAME:PST
DTSTART:19711031T090000
END:STANDARD
END:VTIMEZONE
BEGIN:VEVENT
DTSTART;TZID=America/Los_Angeles:20260425T075249
DTEND;TZID=America/Los_Angeles:20260425T075249
DTSTAMP:20260425T075249
CREATED:20201001T185310Z
LAST-MODIFIED:20201001T185310Z
UID:3437-0-0@comm.ucla.edu
SUMMARY:Winter Quarter Ends
DESCRIPTION:
URL:https://comm.ucla.edu/event/winter-quarter-ends/
END:VEVENT
BEGIN:VEVENT
DTSTART;TZID=America/Los_Angeles:20260425T075249
DTEND;TZID=America/Los_Angeles:20260425T075249
DTSTAMP:20260425T075249
CREATED:20201001T185310Z
LAST-MODIFIED:20201001T185310Z
UID:3438-0-0@comm.ucla.edu
SUMMARY:Spring Quarter Instruction Begins
DESCRIPTION:If you are still looking for a class to take this spring\, checkout the incredible Communicatino Studies spring courses!http://www.registrar.ucla.edu/schedule/crsredir.aspx?termsel=15S&subarea…
URL:https://comm.ucla.edu/event/spring-quarter-instruction-begins/
END:VEVENT
BEGIN:VEVENT
DTSTART;TZID=America/Los_Angeles:20260425T075249
DTEND;TZID=America/Los_Angeles:20260425T075249
DTSTAMP:20260425T075249
CREATED:20201001T185310Z
LAST-MODIFIED:20201001T185310Z
UID:3439-0-0@comm.ucla.edu
SUMMARY:Spring Quarter Ends
DESCRIPTION:
URL:https://comm.ucla.edu/event/spring-quarter-ends/
END:VEVENT
BEGIN:VEVENT
DTSTART;TZID=America/Los_Angeles:20260425T075249
DTEND;TZID=America/Los_Angeles:20260425T075249
DTSTAMP:20260425T075249
CREATED:20201001T185310Z
LAST-MODIFIED:20201001T185310Z
UID:3432-0-0@comm.ucla.edu
SUMMARY:Summer Session A Instruction Begins
DESCRIPTION:If you are still looking for a class to take this summer\, checkout the fabulous Communicatino Studies Summer Session Courses!
URL:https://comm.ucla.edu/event/summer-session-a-instruction-begins/
END:VEVENT
BEGIN:VEVENT
DTSTART;TZID=America/Los_Angeles:20260425T075249
DTEND;TZID=America/Los_Angeles:20260425T075249
DTSTAMP:20260425T075249
CREATED:20201001T185310Z
LAST-MODIFIED:20201001T185310Z
UID:3467-0-0@comm.ucla.edu
SUMMARY:Communication Studies students at Undergraduate Research Week
DESCRIPTION:The following Communication Studies students will be presenting their work at the 2015 Undergraduate Research Week:Oral Presentations (Powell Library second floor):Nicole Nour: Friday\, May 15 from 12:00-1:00pmYerin Yoon: Friday\, May 15 from 12:00-1:00pmPoster Sessions (Powell Library rotunda):Omar Nieto: Thursday\, May 14 from 12:00-1:00pmClick here for more information:  
URL:https://comm.ucla.edu/event/communication-studies-students-at-undergraduate-research-week/
END:VEVENT
BEGIN:VEVENT
DTSTART;TZID=America/Los_Angeles:20260425T075249
DTEND;TZID=America/Los_Angeles:20260425T075249
DTSTAMP:20260425T075249
CREATED:20201001T185310Z
LAST-MODIFIED:20201001T185310Z
UID:3433-0-0@comm.ucla.edu
SUMMARY:Summer Session C Instruction Begins
DESCRIPTION:If you are still looking for a class to take this summer\, checkout the fabulous Communicatino Studies Summer Session Courses!
URL:https://comm.ucla.edu/event/summer-session-c-instruction-begins/
END:VEVENT
BEGIN:VEVENT
DTSTART;TZID=America/Los_Angeles:20260425T075249
DTEND;TZID=America/Los_Angeles:20260425T075249
DTSTAMP:20260425T075249
CREATED:20201001T185310Z
LAST-MODIFIED:20201001T185310Z
UID:3434-0-0@comm.ucla.edu
SUMMARY:Fall Quarter Instruction Begins
DESCRIPTION:If you are still looking for a class to take this fall\, checkout the fantastic Communicatino Studies fall courses!http://www.registrar.ucla.edu/schedule/detmain.aspx?termsel=14F&subareas…
URL:https://comm.ucla.edu/event/fall-quarter-instruction-begins/
END:VEVENT
BEGIN:VEVENT
DTSTART;TZID=America/Los_Angeles:20260425T075249
DTEND;TZID=America/Los_Angeles:20260425T075249
DTSTAMP:20260425T075249
CREATED:20201001T185310Z
LAST-MODIFIED:20201001T185310Z
UID:3435-0-0@comm.ucla.edu
SUMMARY:Fall Quarter Ends
DESCRIPTION:
URL:https://comm.ucla.edu/event/fall-quarter-ends/
END:VEVENT
BEGIN:VEVENT
DTSTART;TZID=America/Los_Angeles:20260425T075249
DTEND;TZID=America/Los_Angeles:20260425T075249
DTSTAMP:20260425T075249
CREATED:20201001T185309Z
LAST-MODIFIED:20201001T185309Z
UID:3493-0-0@comm.ucla.edu
SUMMARY:Application Deadline - PhD Program (Fall 2020)
DESCRIPTION:The application for our new PhD program closes December 15\, 2019. Admission is for Fall 2020. For more information or to apply\, visit https://comm.ucla.edu/graduate/admissions. Questions can be directed to gradprogram@comm.ucla.edu.
URL:https://comm.ucla.edu/event/application-deadline-phd-program-fall-2020/
END:VEVENT
END:VCALENDAR