BEGIN:VCALENDAR
VERSION:2.0
PRODID:-//UCLA Communication - ECPv6.15.12//NONSGML v1.0//EN
CALSCALE:GREGORIAN
METHOD:PUBLISH
X-WR-CALNAME:UCLA Communication
X-ORIGINAL-URL:https://comm.ucla.edu
X-WR-CALDESC:Events for UCLA Communication
REFRESH-INTERVAL;VALUE=DURATION:PT1H
X-Robots-Tag:noindex
X-PUBLISHED-TTL:PT1H
BEGIN:VTIMEZONE
TZID:America/Los_Angeles
BEGIN:DAYLIGHT
TZOFFSETFROM:-0800
TZOFFSETTO:-0700
TZNAME:PDT
DTSTART:20180311T100000
END:DAYLIGHT
BEGIN:STANDARD
TZOFFSETFROM:-0700
TZOFFSETTO:-0800
TZNAME:PST
DTSTART:20181104T090000
END:STANDARD
BEGIN:DAYLIGHT
TZOFFSETFROM:-0800
TZOFFSETTO:-0700
TZNAME:PDT
DTSTART:20190310T100000
END:DAYLIGHT
BEGIN:STANDARD
TZOFFSETFROM:-0700
TZOFFSETTO:-0800
TZNAME:PST
DTSTART:20191103T090000
END:STANDARD
BEGIN:DAYLIGHT
TZOFFSETFROM:-0800
TZOFFSETTO:-0700
TZNAME:PDT
DTSTART:20200308T100000
END:DAYLIGHT
BEGIN:STANDARD
TZOFFSETFROM:-0700
TZOFFSETTO:-0800
TZNAME:PST
DTSTART:20201101T090000
END:STANDARD
BEGIN:DAYLIGHT
TZOFFSETFROM:-0800
TZOFFSETTO:-0700
TZNAME:PDT
DTSTART:20210314T100000
END:DAYLIGHT
BEGIN:STANDARD
TZOFFSETFROM:-0700
TZOFFSETTO:-0800
TZNAME:PST
DTSTART:20211107T090000
END:STANDARD
BEGIN:DAYLIGHT
TZOFFSETFROM:-0800
TZOFFSETTO:-0700
TZNAME:PDT
DTSTART:20220313T100000
END:DAYLIGHT
BEGIN:STANDARD
TZOFFSETFROM:-0700
TZOFFSETTO:-0800
TZNAME:PST
DTSTART:20221106T090000
END:STANDARD
BEGIN:DAYLIGHT
TZOFFSETFROM:-0800
TZOFFSETTO:-0700
TZNAME:PDT
DTSTART:20230312T100000
END:DAYLIGHT
BEGIN:STANDARD
TZOFFSETFROM:-0700
TZOFFSETTO:-0800
TZNAME:PST
DTSTART:20231105T090000
END:STANDARD
BEGIN:DAYLIGHT
TZOFFSETFROM:-0800
TZOFFSETTO:-0700
TZNAME:PDT
DTSTART:20240310T100000
END:DAYLIGHT
BEGIN:STANDARD
TZOFFSETFROM:-0700
TZOFFSETTO:-0800
TZNAME:PST
DTSTART:20241103T090000
END:STANDARD
END:VTIMEZONE
BEGIN:VEVENT
DTSTART;TZID=America/Los_Angeles:20231019T110000
DTEND;TZID=America/Los_Angeles:20231019T121500
DTSTAMP:20260425T064402
CREATED:20230908T165601Z
LAST-MODIFIED:20231012T164009Z
UID:6781-1697713200-1697717700@comm.ucla.edu
SUMMARY:Department Speaker Series: Jimmy Calanchini (UCR\, Psych)
DESCRIPTION:Title: Putting the Environment Back in Person-Environment Fit\n \nAbstract: Psychology scientists have recognized for decades that individual behavior is a function of both the person and the environment. However\, due to a dominant focus on individual differences\, psychological data on intergroup bias have historically been collected through small\, controlled experiments with the individual as the unit of analysis – to the relative exclusion of the environment. Recent technological advancements facilitate massive amounts of data to be collected from diverse populations and locations. Capitalizing on these newly-available data\, researchers can geolocate the responses of individuals to provide insight into regional variation in intergroup biases with a degree of ecological validity impossible in the laboratory. In this talk\, I will present correlational evidence linking regional biases to outcomes of consequence\, propose a novel theoretical perspective for understanding regional intergroup bias\, and discuss future directions for this emerging line of research.
URL:https://comm.ucla.edu/event/department-speaker-series-jimmy-calanchini-ucr-psych/
LOCATION:Comm Conference Room – Rolfe 2303
CATEGORIES:Department Speaker Series
END:VEVENT
BEGIN:VEVENT
DTSTART;TZID=America/Los_Angeles:20230511T110000
DTEND;TZID=America/Los_Angeles:20230511T123000
DTSTAMP:20260425T064402
CREATED:20230512T180645Z
LAST-MODIFIED:20230512T183208Z
UID:6548-1683802800-1683808200@comm.ucla.edu
SUMMARY:Natalie Kahn Colloquium in Communication speaker Ashley Martin from the Stanford Graduate School of Business with Natalie Kahn and Roy Patience
DESCRIPTION:
URL:https://comm.ucla.edu/event/natalie-kahn-colloquium-in-communication-speaker-ashley-martin-from-the-stanford-graduate-school-of-business-with-natalie-kahn-and-roy-patience/
END:VEVENT
BEGIN:VEVENT
DTSTART;TZID=America/Los_Angeles:20230511T110000
DTEND;TZID=America/Los_Angeles:20230511T120000
DTSTAMP:20260425T064402
CREATED:20230203T173220Z
LAST-MODIFIED:20230511T174557Z
UID:6273-1683802800-1683806400@comm.ucla.edu
SUMMARY:Ashley Martin\, Ph.D. - Brown Bag Talk
DESCRIPTION:Gendered Cognition: The Primacy of Gender in Seeing Human \nWhat does it mean to be (seen as) human? In this talk\, I explore this question and show that the attribution of gender is a critical component of seeing someone—or something—as human. Given gender’s primacy in social cognition\, I propose that gender is linked to “seeing human” in a way that cannot be said of other social categories (i.e.\, race\, age\, sexual orientation\, religion\, or disability). I test this hypothesis in a number of studies that induce humanization (i.e.\, anthropomorphism) and measure social-category ascription\, as well as those that include (versus remove) gendered information and measure humanization. I then present new work that explores gendered cognition using “non-binary” stimuli and among non-binary individuals. Finally\, I explore the implications of gendered cognition for people’s preferences for\, and attachment to\, gendered technology. These findings underscore the importance of gender in humanization and have theoretical and practical implications for research on gender\, (de)humanization\, and social cognition\, as well as for current discussions on gender neutrality.
URL:https://comm.ucla.edu/event/ashley-martin-brown-bag-talk/
LOCATION:Comm Conference Room – Rolfe 2303
END:VEVENT
BEGIN:VEVENT
DTSTART;TZID=America/Los_Angeles:20230510T100000
DTEND;TZID=America/Los_Angeles:20230510T110000
DTSTAMP:20260425T064402
CREATED:20230503T183122Z
LAST-MODIFIED:20230503T183122Z
UID:6503-1683712800-1683716400@comm.ucla.edu
SUMMARY:Dept of Communication - Undergraduate Information Session
DESCRIPTION:
URL:https://comm.ucla.edu/event/dept-of-communication-undergraduate-information-session/
LOCATION:Dodd 175
END:VEVENT
BEGIN:VEVENT
DTSTART;VALUE=DATE:20230427
DTEND;VALUE=DATE:20230428
DTSTAMP:20260425T064402
CREATED:20230203T172727Z
LAST-MODIFIED:20230203T173128Z
UID:6265-1682553600-1682639999@comm.ucla.edu
SUMMARY:Jeff Hancock - Brown Bag Talk
DESCRIPTION:
URL:https://comm.ucla.edu/event/jeff-hancock-brown-bag-talk/
END:VEVENT
BEGIN:VEVENT
DTSTART;VALUE=DATE:20230316
DTEND;VALUE=DATE:20230317
DTSTAMP:20260425T064402
CREATED:20230203T172625Z
LAST-MODIFIED:20230228T191111Z
UID:6262-1678924800-1679011199@comm.ucla.edu
SUMMARY:Norah Dunbar - Brown Bag Talk
DESCRIPTION:
URL:https://comm.ucla.edu/event/norah-dunbar-brown-bag-talk/
END:VEVENT
BEGIN:VEVENT
DTSTART;TZID=America/Los_Angeles:20230222T100000
DTEND;TZID=America/Los_Angeles:20230222T110000
DTSTAMP:20260425T064402
CREATED:20230216T001726Z
LAST-MODIFIED:20230216T001859Z
UID:6339-1677060000-1677063600@comm.ucla.edu
SUMMARY:Comm Information Session
DESCRIPTION:Questions about the \nUNDERGRADUATE MAJOR? \nFor more information about our program we invite you to attend our quarterly \n***INFORMATION SESSION*** \nWednesday\, Feburary 22 at 10am  \nRolfe 3126 \nWe look forward to seeing you!
URL:https://comm.ucla.edu/event/comm-information-session-2/
END:VEVENT
BEGIN:VEVENT
DTSTART;TZID=America/Los_Angeles:20230217T090000
DTEND;TZID=America/Los_Angeles:20230217T150000
DTSTAMP:20260425T064402
CREATED:20230203T171725Z
LAST-MODIFIED:20230203T171731Z
UID:6252-1676624400-1676646000@comm.ucla.edu
SUMMARY:Measuring Media Accuracy workshop
DESCRIPTION:Colleagues\, \nThe Measuring Media Accuracy workshop\, funded by the Luskin Endowment for Thought Leadership at UCLA\, is on Friday February 17th at the Luskin Conference Center. The details are attached in pdf.  The program is as follows: \n9:15    Welcome\, by Stuart Soroka (UCLA\, website)\n9:30    Robert Bond (Ohio State University\, website)\n10:30  Amber Boydstun (UC Davis\, website)\n11:30  Christopher Wlezien (UT Austin\, website)\n12:30  Lunch\n1:45    Kasper Welbers (VU University Amsterdam\, website)\n2:45    Leticia Bode (Georgetown\, website) \nThe workshop is open to any interested faculty or students at UCLA.  You are welcome to come to some or all of the day. (I recommend all!)  An RSVP would be helpful so we can plan appropriately — and it’s especially useful if you think you’d like to join us for lunch as well. You can RSVP here: https://forms.gle/ezcaM9BTqUev4y6G8 \nIf you’ve any questions\, please do get in touch.  And I’ll hope to see you on the 17th! \n 
URL:https://comm.ucla.edu/event/measuring-media-accuracy-workshop/
END:VEVENT
BEGIN:VEVENT
DTSTART;TZID=America/Los_Angeles:20230216T110000
DTEND;TZID=America/Los_Angeles:20230216T235900
DTSTAMP:20260425T064402
CREATED:20230203T172511Z
LAST-MODIFIED:20230213T222757Z
UID:6259-1676545200-1676591940@comm.ucla.edu
SUMMARY:Jennifer Pan - Brown Bag Talk "Digital Repression"
DESCRIPTION:Abstract: Repression research examines the causes and consequences of actions or policies that are meant to\, or actually do\, raise the costs of activism\, protest\, and/or social movement activity. The rise of digital and social media has brought substantial increases in attention to the repression of digital activists and movements and/or to the use of digital tools in repression\, which is spread across many disciplines and areas of study. This paper organizes this growing welter of research under the concept of digital repression by expanding a typology that distinguishes actions based on actor type\, whether actions are overt or covert\, and whether behaviors are shaped by coercion or channeling. This delineation between broadly different forms of digital repression allows us to develop expectations about digital repression\, better understand what is “new” about digital repression in terms of explanatory factors\, and better understand the consequences of digital repression.
URL:https://comm.ucla.edu/event/jennifer-pan-brown-bag-talk/
LOCATION:Comm Conference Room – Rolfe 2303
END:VEVENT
BEGIN:VEVENT
DTSTART;VALUE=DATE:20230209
DTEND;VALUE=DATE:20230210
DTSTAMP:20260425T064402
CREATED:20230203T172327Z
LAST-MODIFIED:20230203T172331Z
UID:6256-1675900800-1675987199@comm.ucla.edu
SUMMARY:Ritwika Vallomparambath Panikkassery Sugasree - Brown Bag Talk
DESCRIPTION:
URL:https://comm.ucla.edu/event/ritwika-vallomparambath-panikkassery-sugasree-brown-bag-talk/
END:VEVENT
BEGIN:VEVENT
DTSTART;TZID=America/Los_Angeles:20230119T110000
DTEND;TZID=America/Los_Angeles:20230119T121500
DTSTAMP:20260425T064402
CREATED:20230117T222127Z
LAST-MODIFIED:20230117T222133Z
UID:6171-1674126000-1674130500@comm.ucla.edu
SUMMARY:Winter 2023 Brown Bag series - Jennifer Whitson\, UCLA Anderson School of Management
DESCRIPTION:Jennifer Whitson\nUCLA Anderson School of Management\n\nTitle: Conspiracy Theories and the Search for Structure\nAbstract: Conspiracy theories cast disparate or unrelated entities as engaging in concerted\, malevolent action. In this talk\, I explore antecedents and consequences of beliefs in conspiracy theories. I first present evidence that individual characteristics (i.e.\, regulatory focus\, political identity) and aspects about the environment (i.e.\, COVID-19 and social media) shape peoples’ receptiveness to conspiratorial beliefs. I then examine a timely consequence of conspiracy theories. Specifically\, how COVID-19-related conspiratorial beliefs have had a significant negative impact on the perception of COVID-19 vaccine importance in the U.S.. Finally\, I suggest a possible intervention that may help ameliorate the adverse effect of conspiratorial beliefs. In particular\, interdependent self-construal may mitigate the relationship between the COVID-19-related conspiratorial beliefs and reduced vaccination rates by increasing the perceived health risks of going unvaccinated. Our intervention differs from previous efforts in that it does not rely on rational persuasion to dissuade people of conspiratorial notions. Instead\, we focus on reducing the impact of conspiratorial beliefs by altering the way people think about their existing identities and groups.
URL:https://comm.ucla.edu/event/winter-2023-brown-bag-series-jennifer-whitson-ucla-anderson-school-of-management/
LOCATION:Comm Conference Room – Rolfe 2303
END:VEVENT
BEGIN:VEVENT
DTSTART;TZID=America/Los_Angeles:20220623T110000
DTEND;TZID=America/Los_Angeles:20220623T123000
DTSTAMP:20260425T064402
CREATED:20220623T135950Z
LAST-MODIFIED:20220623T140047Z
UID:5684-1655982000-1655987400@comm.ucla.edu
SUMMARY:Professor Shimon Edelman\, Cornell University: Conscience\, conditional cooperation\, and the prospects of surviving capitalism
DESCRIPTION:
URL:https://comm.ucla.edu/event/prof-shimon-edelman-cornell-university-conscience-conditional-cooperation-and-the-prospects-of-surviving-capitalism/
LOCATION:Comm Conference Room – Rolfe 2303
END:VEVENT
BEGIN:VEVENT
DTSTART;TZID=America/Los_Angeles:20220612T103000
DTEND;TZID=America/Los_Angeles:20220612T133000
DTSTAMP:20260425T064402
CREATED:20220601T062711Z
LAST-MODIFIED:20220601T062718Z
UID:5652-1655029800-1655040600@comm.ucla.edu
SUMMARY:Department of Communication Commencement
DESCRIPTION:
URL:https://comm.ucla.edu/event/department-of-communication-commencement/
END:VEVENT
BEGIN:VEVENT
DTSTART;TZID=America/Los_Angeles:20220523T183000
DTEND;TZID=America/Los_Angeles:20220523T203000
DTSTAMP:20260425T064402
CREATED:20220420T185858Z
LAST-MODIFIED:20220420T203204Z
UID:5501-1653330600-1653337800@comm.ucla.edu
SUMMARY:Censorship and the Visual Art in Los Angeles hosted by Professor Paul Von Blum
DESCRIPTION:
URL:https://comm.ucla.edu/event/censorship-and-the-visual-art-in-los-angeles-hosted-by-professor-paul-vonblum/
LOCATION:Rolfe 1200
END:VEVENT
BEGIN:VEVENT
DTSTART;TZID=America/Los_Angeles:20220519T110000
DTEND;TZID=America/Los_Angeles:20220519T123000
DTSTAMP:20260425T064402
CREATED:20220418T225244Z
LAST-MODIFIED:20220418T230118Z
UID:5492-1652958000-1652963400@comm.ucla.edu
SUMMARY:Comm Brown Bag Talk: Silvia Pagliarini
DESCRIPTION:Thursday\, May 19 @ 11:00
URL:https://comm.ucla.edu/event/comm-brown-bag-talk-silvia-pagliarini/
LOCATION:Comm Conference Room – Rolfe 2303
END:VEVENT
BEGIN:VEVENT
DTSTART;TZID=America/Los_Angeles:20220512T110000
DTEND;TZID=America/Los_Angeles:20220512T123000
DTSTAMP:20260425T064402
CREATED:20220418T225036Z
LAST-MODIFIED:20220418T230054Z
UID:5488-1652353200-1652358600@comm.ucla.edu
SUMMARY:Comm Brown Bag Talk: Guadalupe (Lupita) Madrigal “We Won’t Give Amnesty to People with Kids”: The Effects of Integration\, Family\, and Community Cues in Immigration News
DESCRIPTION:Thursday\, May 12 @ 11:00
URL:https://comm.ucla.edu/event/comm-brown-bag-talk-guadalupe-lupita-madrigal-we-wont-give-amnesty-to-people-with-kids-the-effects-of-integration-family-and-community-cues-in-immigration-news/
LOCATION:Comm Conference Room – Rolfe 2303
END:VEVENT
BEGIN:VEVENT
DTSTART;TZID=America/Los_Angeles:20220511T110000
DTEND;TZID=America/Los_Angeles:20220511T120000
DTSTAMP:20260425T064402
CREATED:20210202T151303Z
LAST-MODIFIED:20220505T223534Z
UID:4019-1652266800-1652270400@comm.ucla.edu
SUMMARY:Dept. of Communication - Information Session
DESCRIPTION:  \n 
URL:https://comm.ucla.edu/event/communication-information-session/
LOCATION:Haines 39\, Haines 39
END:VEVENT
BEGIN:VEVENT
DTSTART;TZID=America/Los_Angeles:20220421T110000
DTEND;TZID=America/Los_Angeles:20220421T123000
DTSTAMP:20260425T064402
CREATED:20220418T224648Z
LAST-MODIFIED:20220418T230022Z
UID:5482-1650538800-1650544200@comm.ucla.edu
SUMMARY:Comm Brown Bag Talk: Seungbae Kim "Applied Machine Learning: Multi-Modal Graph Neural Network for Social Media Marketing"
DESCRIPTION:Dear Faculty\, Students\, and Staff\, \nPlease mark your calendars for our upcoming Brown Bag talk featuring Seungbae Kim!\n\nWhen: Thursday\, April 21\, 11:00\nWhere: Rolfe 2303A
URL:https://comm.ucla.edu/event/comm-brown-bag-talk-seungbae-kim/
LOCATION:Comm Conference Room – Rolfe 2303
END:VEVENT
BEGIN:VEVENT
DTSTART;TZID=America/Los_Angeles:20211202T110000
DTEND;TZID=America/Los_Angeles:20211202T120000
DTSTAMP:20260425T064402
CREATED:20211201T163224Z
LAST-MODIFIED:20211201T163309Z
UID:4992-1638442800-1638446400@comm.ucla.edu
SUMMARY:Brown Bag Speaker Series: C. Malik Boykin\, Ph.D.
DESCRIPTION:
URL:https://comm.ucla.edu/event/department-of-communication-brown-bag-speaker-series-c-malik-boykin-ph-d/
END:VEVENT
BEGIN:VEVENT
DTSTART;TZID=America/Los_Angeles:20211110T100000
DTEND;TZID=America/Los_Angeles:20211110T110000
DTSTAMP:20260425T064402
CREATED:20211103T222807Z
LAST-MODIFIED:20211103T222810Z
UID:4964-1636538400-1636542000@comm.ucla.edu
SUMMARY:Comm Information Session
DESCRIPTION:Questions about the UNDERGRADUATE COMMUNICATION MAJOR? \nFor more information about our program we invite you to attend our quarterly \n** INFORMATION SESSION ** \nWednesday\, November 10 at 10am \nin Rolfe 3126 \nWe look forward to seeing you!
URL:https://comm.ucla.edu/event/comm-information-session/
LOCATION:Haines 39\, Haines 39
END:VEVENT
BEGIN:VEVENT
DTSTART;TZID=America/Los_Angeles:20201204T110000
DTEND;TZID=America/Los_Angeles:20201204T120000
DTSTAMP:20260425T064402
CREATED:20201207T021333Z
LAST-MODIFIED:20201207T021618Z
UID:3807-1607079600-1607083200@comm.ucla.edu
SUMMARY:Chat with the Chair
DESCRIPTION:The Department of Communication is excited to invite our undergraduate majors to a special virtual event with Professor Kerri Johnson\, Department Chair!
URL:https://comm.ucla.edu/event/chat-with-the-chair/
END:VEVENT
BEGIN:VEVENT
DTSTART;TZID=America/Los_Angeles:20201118T100000
DTEND;TZID=America/Los_Angeles:20201118T230000
DTSTAMP:20260425T064402
CREATED:20201107T153916Z
LAST-MODIFIED:20201107T154927Z
UID:3742-1605693600-1605740400@comm.ucla.edu
SUMMARY:Comm Virtual Information Session - Register here!
DESCRIPTION:Questions about the \nUNDERGRADUATE MAJOR? \nFor more information about our program we invite you to attend our \nINFORMATION SESSION \nWednesday\, November 18 from 10am-11am \nPlease REGISTER for the event here to receive Zoom details. \nWe look forward to seeing you! \nIf you have any questions please contact Pia Svenson at psvenson@comm.ucla.edu
URL:https://comm.ucla.edu/event/comm-virtual-information-session/
LOCATION:Haines 39\, Haines 39
END:VEVENT
BEGIN:VEVENT
DTSTART;TZID=America/Los_Angeles:20200519T150000
DTEND;TZID=America/Los_Angeles:20200519T160000
DTSTAMP:20260425T064402
CREATED:20201001T185305Z
LAST-MODIFIED:20201001T185305Z
UID:3502-1589900400-1589904000@comm.ucla.edu
SUMMARY:Virtual conversations with UCLA experts featuring Professor Kerri Johnson
DESCRIPTION:
URL:https://comm.ucla.edu/event/virtual-conversations-with-ucla-experts-featuring-professor-kerri-johnson/
END:VEVENT
BEGIN:VEVENT
DTSTART;TZID=America/Los_Angeles:20191119T180000
DTEND;TZID=America/Los_Angeles:20191119T210000
DTSTAMP:20260425T064402
CREATED:20201001T185305Z
LAST-MODIFIED:20201001T185305Z
UID:3500-1574186400-1574197200@comm.ucla.edu
SUMMARY:3rd Annual Barry A. Sanders Lecture on Communication & the Arts
DESCRIPTION:The UCLA Department of Communicationinvites you to the 3rd annualBarry A. Sanders Lecture onCommunication and the ArtsbyBeth MorrisonPresident and Creative Producer\, Beth Morrison ProjectsIndie Opera and New Musicfollowed by a conversation withChristopher KoelschPresident and CEO\, LA OperaTuesday\, November 19\, 20196:00 p.m.Reception to followCalifornia NanoSystems Institute (CNSI)UCLARegistration required; seating is limited.Click here to RSVPParking available for $13 in Structure 9 About the series: The Barry A. Sanders Lecture on Communication and the Arts is a series of lectures that feature prominent thinkers associated with the arts as performers\, visual artists\, composers\, critics\, scientists\, and philosophers. The lectures invite them to write and speak about the process and effects of nonverbal communication in the arts. Speakers will discuss how visual\, auditory\, symbolic\, and other forms of expression convey meaning and create dialogue through their work and the work of others.Learn more about Beth Morrison
URL:https://comm.ucla.edu/event/3rd-annual-barry-a-sanders-lecture-on-communication-the-arts/
END:VEVENT
BEGIN:VEVENT
DTSTART;TZID=America/Los_Angeles:20191113T100000
DTEND;TZID=America/Los_Angeles:20191113T110000
DTSTAMP:20260425T064402
CREATED:20201001T185305Z
LAST-MODIFIED:20201001T185305Z
UID:3501-1573639200-1573642800@comm.ucla.edu
SUMMARY:Comm Information Session Nov 13 @ 10am in Perloff 1102
DESCRIPTION:
URL:https://comm.ucla.edu/event/comm-information-session-nov-13-10am-in-perloff-1102/
END:VEVENT
BEGIN:VEVENT
DTSTART;TZID=America/Los_Angeles:20191003T120000
DTEND;TZID=America/Los_Angeles:20191212T133000
DTSTAMP:20260425T064402
CREATED:20201001T185305Z
LAST-MODIFIED:20201001T185305Z
UID:3499-1570104000-1576157400@comm.ucla.edu
SUMMARY:Partnership UCLA: Career Counseling
DESCRIPTION:Partnership UCLA/Alumni Career Programs welcome the opportunity to assist UCLA Communications students in achieving their career goals. To that end\, Associate Director of Alumni Career Programs Amanda Raymond will be hosting 15-minute express drop-in hours throughout the quarter on Thursdays\, 12:00pm-1:30 p.m. in the Communication Project Room (ROLFE 2310) – first come\, first served. Advising Topics:Networking Advice and AssistanceInterview PreparationJob and Internship Search Strategies Resume and Cover letter CritiqueGeneral Career Advice If you are interested in a deeper dive please feel free to contact Amanda Raymond: araymond@partnership.ucla.edu  to set up an appointment. 
URL:https://comm.ucla.edu/event/partnership-ucla-career-counseling/
END:VEVENT
BEGIN:VEVENT
DTSTART;TZID=America/Los_Angeles:20190925T100000
DTEND;TZID=America/Los_Angeles:20190925T140000
DTSTAMP:20260425T064402
CREATED:20201001T185306Z
LAST-MODIFIED:20201001T185306Z
UID:3483-1569405600-1569420000@comm.ucla.edu
SUMMARY:Undergraduate Newly Admitted Comm Major and Senior Orientation
DESCRIPTION:ATTN COMM UNDERGRADS:There will be a Communication Department Orientation on Wednesday\, September 25 from 10:00-11:30am (for newly admitted continuing UCLA and transfer students) and 1:00-2:00pm (for seniors) in 1200 Rolfe Hall. It is very important that you attend.Newly Admitted Students: You will be given important information regarding planning your class schedule\, learning about the internship program and career possibilities\, “Double Majors”\, and an explanation of the Department requirements. You will have an opportunity to ask questions about the Communication curriculum and its function in completing your Bachelor of Arts Degree.Seniors: All of the above (if you are not familiar with it)\, and preparing for admission to graduate school\, career paths\, and planning for graduation (the actual day).
URL:https://comm.ucla.edu/event/undergraduate-newly-admitted-comm-major-and-senior-orientation/
END:VEVENT
BEGIN:VEVENT
DTSTART;TZID=America/Los_Angeles:20190605T180000
DTEND;TZID=America/Los_Angeles:20190605T200000
DTSTAMP:20260425T064402
CREATED:20201001T185306Z
LAST-MODIFIED:20201001T185306Z
UID:3488-1559757600-1559764800@comm.ucla.edu
SUMMARY:Partnership UCLA: Women in Sports Media Career Panel
DESCRIPTION:Women in Sports Media Career PanelPlease join us for a panel featuring inspiring alumnae and friends of UCLA who will share their experiences as women working in sports media\, including challenges they have faced and how they’ve stayed resilient in a male-dominated industry. Additional career questions\, such as those you submit below\, will also be part of the discussion.This free event is open to all years\, majors and genders.Wednesday June 5th\, 20196-8pm1234 Public Affairs BuildingRSVPPanelists:Nikki Kay ’13Sports Reporter at Spectrum LANicole Labrow ’98Vice President\, Partnership Development at Home Team Sports\, a division of Fox Sports Media GroupErin McMullen Senior Director\, Programming at FOX SportsLindsey Pallares ’13Padres Bilingual Digital Reporter at FOX Sports West\, Prime Ticket\, FOX Sports San Diego
URL:https://comm.ucla.edu/event/partnership-ucla-women-in-sports-media-career-panel/
END:VEVENT
BEGIN:VEVENT
DTSTART;TZID=America/Los_Angeles:20190529T080000
DTEND;TZID=America/Los_Angeles:20190529T170000
DTSTAMP:20260425T064402
CREATED:20201001T185306Z
LAST-MODIFIED:20201001T185306Z
UID:3494-1559116800-1559149200@comm.ucla.edu
SUMMARY:Alumni Recruiters Mock Interviews  for Communication
DESCRIPTION:Interviewing for a job is a skill. Like all skills\, it takes practice. Mock interviews are a great way to gain experience\, practice interview skills\, receive feedback\, and improve performance. Each interview will be 30 minutes and includes specific feedback from an Alumni Recruiter from  Warner Bros\, Dream Works and Disney. Sign up for an appointment for May 29th 2019.
URL:https://comm.ucla.edu/event/alumni-recruiters-mock-interviews-for-communication/
END:VEVENT
BEGIN:VEVENT
DTSTART;TZID=America/Los_Angeles:20190523T180000
DTEND;TZID=America/Los_Angeles:20190523T210000
DTSTAMP:20260425T064402
CREATED:20201001T185306Z
LAST-MODIFIED:20201001T185306Z
UID:3485-1558634400-1558645200@comm.ucla.edu
SUMMARY:George Oliver Award Banquet 2019
DESCRIPTION:Celebrate the 2018-2019 team accomplishments and the bestowing of the Distinguished George Oliver Award.Business casual attire. Food and refreshments will be provided.RSVP Required.For more information on the UCLA Debate Union and how you can get involved\, please visit www.ucladebateunion.com.
URL:https://comm.ucla.edu/event/george-oliver-award-banquet-2019/
END:VEVENT
END:VCALENDAR