BEGIN:VCALENDAR
VERSION:2.0
PRODID:-//UCLA Communication - ECPv6.15.12//NONSGML v1.0//EN
CALSCALE:GREGORIAN
METHOD:PUBLISH
X-WR-CALNAME:UCLA Communication
X-ORIGINAL-URL:https://comm.ucla.edu
X-WR-CALDESC:Events for UCLA Communication
REFRESH-INTERVAL;VALUE=DURATION:PT1H
X-Robots-Tag:noindex
X-PUBLISHED-TTL:PT1H
BEGIN:VTIMEZONE
TZID:America/Los_Angeles
BEGIN:DAYLIGHT
TZOFFSETFROM:-0800
TZOFFSETTO:-0700
TZNAME:PDT
DTSTART:20230312T100000
END:DAYLIGHT
BEGIN:STANDARD
TZOFFSETFROM:-0700
TZOFFSETTO:-0800
TZNAME:PST
DTSTART:20231105T090000
END:STANDARD
BEGIN:DAYLIGHT
TZOFFSETFROM:-0800
TZOFFSETTO:-0700
TZNAME:PDT
DTSTART:20240310T100000
END:DAYLIGHT
BEGIN:STANDARD
TZOFFSETFROM:-0700
TZOFFSETTO:-0800
TZNAME:PST
DTSTART:20241103T090000
END:STANDARD
BEGIN:DAYLIGHT
TZOFFSETFROM:-0800
TZOFFSETTO:-0700
TZNAME:PDT
DTSTART:20250309T100000
END:DAYLIGHT
BEGIN:STANDARD
TZOFFSETFROM:-0700
TZOFFSETTO:-0800
TZNAME:PST
DTSTART:20251102T090000
END:STANDARD
END:VTIMEZONE
BEGIN:VEVENT
DTSTART;TZID=America/Los_Angeles:20240510T150000
DTEND;TZID=America/Los_Angeles:20240510T163000
DTSTAMP:20260424T030651
CREATED:20240328T064612Z
LAST-MODIFIED:20240513T032752Z
UID:7235-1715353200-1715358600@comm.ucla.edu
SUMMARY:POSTPONES: CPG: Ben Epstein (DePaul)
DESCRIPTION:Title: Exploring Political Communication Strategies of Women’s Rights and LGBTQ+ Communities Over Time \n  \nAbstract: This study uses a mixed methods approach to explore the communication approaches of organizations advocating for greater political power\, access\, and representation for women and LGBTQ+ Americans over time. First\, I identify a diverse sample of organizations and publications advocating for greater political inclusion for women and LGBTQ+ Americans over the past two centuries\, with particular attention to those in the contemporary digital era. Next\, various print and digital communications efforts are analyzed\, applying a framework developed over a number of studies to compare the varied communication approaches of organizations advocating for marginalized communities. Finally\, content analysis is used to evaluate newspapers\, magazines\, social media posts and websites from these organizations and publications. Through these approaches I explore the rhetorical strategies and goals of political messages communicated by these groups by centering their words\, and find that while many notable changes have occurred\, much is remarkably consistent over time.
URL:https://comm.ucla.edu/event/cpg-ben-epstein-depaul/
LOCATION:Comm Conference Room – Rolfe 2303
CATEGORIES:Communication and Politics Group
END:VEVENT
BEGIN:VEVENT
DTSTART;TZID=America/Los_Angeles:20240515T100000
DTEND;TZID=America/Los_Angeles:20240515T110000
DTSTAMP:20260424T030651
CREATED:20240509T234305Z
LAST-MODIFIED:20240509T234532Z
UID:7337-1715767200-1715770800@comm.ucla.edu
SUMMARY:Comm Information Session
DESCRIPTION:
URL:https://comm.ucla.edu/event/comm-information-session-3/
LOCATION:Rolfe 1200
END:VEVENT
BEGIN:VEVENT
DTSTART;TZID=America/Los_Angeles:20240516T110000
DTEND;TZID=America/Los_Angeles:20240516T121500
DTSTAMP:20260424T030651
CREATED:20230912T040720Z
LAST-MODIFIED:20240513T172758Z
UID:6791-1715857200-1715861700@comm.ucla.edu
SUMMARY:Department Speaker Series: Megan Burkhardt-Reed (UCLA\, Communication)
DESCRIPTION:Title: The emergence of communication in infancy: Development and evolution \n  \nAbstract: \nDo gestures truly precede vocalization in modern human development and in the evolutionary origin of language? Or is vocalization more foundational for communication? Recent years have seen a resurgence of interest in the evolutionary origins of language. Speculations on the evolution of language have evoked comparisons across human and non-human primate communication. However\, many argue that the origins of language relate closely to the origins of modern human infantbehavior. To the extent that the issue of language origins has been raised\, most recent published opinions exploring evolutionary possibilities have leaned toward a “gesture-first”hypothesis. But much empirical information does not accord with the gestural claims. \n\nIn this talk\, I will present findings from two of my longitudinal studies that systematically compare rates of gestural and vocal communication across the first two years of life. The findings from this research reveal that the bulk of activity in the first and second year of life are in the vocal domain rather than gestural\, suggesting a more foundational role of voice. I will propose a framework to allow comparable counting of communicative and/or potentially communicative events of both infant gesture and vocalization. To date\, clear definitions and criteria for classification have not been a major focus of empirical investigation on gesture and vocalization as language foundations in prior research. I will also outline my current study on understanding the ways older infants continue to babble and speak and the ways caregivers respond to these communications and then present some of the methodology for conducting this work. I will conclude with thoughts on the broader implications of my findings and future directions of my program of research.
URL:https://comm.ucla.edu/event/department-speaker-series-megan-burkhardt-reed-ucla/
LOCATION:Comm Conference Room – Rolfe 2303
CATEGORIES:Department Speaker Series
END:VEVENT
BEGIN:VEVENT
DTSTART;TZID=America/Los_Angeles:20240530T110000
DTEND;TZID=America/Los_Angeles:20240530T121500
DTSTAMP:20260424T030651
CREATED:20230916T191714Z
LAST-MODIFIED:20240522T024623Z
UID:6807-1717066800-1717071300@comm.ucla.edu
SUMMARY:Natalie Kahn Talk\, Department Speaker Series: Muniba Saleem (UCSB\, Communication)
DESCRIPTION:Title: Media Representations and Their Broader Implications for Intergroup Relations \n  \nAbstract: This talk highlights the role of media as an ecosystem in cultivating societal divisions within multicultural contexts. Utilizing correlational\, experimental\, and longitudinal research methodologies\, I provide a comprehensive analysis of the nuanced effects on both racial majority and minority audiences. The findings reveal three broader implications of media depictions of racial minorities. First\, exposure to negative media portrayals of racial minorities adversely affects the attitudes and behaviors of racial majority members towards these groups. Second\, such negative depictions harm racial minorities’ self-esteem and group esteem\, while reinforcing their perceived disadvantaged status in mainstream society relative to other groups. Finally\, mainstream media representations undermine the sense of belonging\, inclusion\, and integration of racial minority members within mainstream society\, culture\, and politics.
URL:https://comm.ucla.edu/event/department-speaker-series-muniba-saleem-ucsb-communication/
LOCATION:Comm Conference Room – Rolfe 2303
CATEGORIES:Department Speaker Series
END:VEVENT
END:VCALENDAR