BEGIN:VCALENDAR
VERSION:2.0
PRODID:-//UCLA Communication - ECPv6.15.12//NONSGML v1.0//EN
CALSCALE:GREGORIAN
METHOD:PUBLISH
X-ORIGINAL-URL:https://comm.ucla.edu
X-WR-CALDESC:Events for UCLA Communication
REFRESH-INTERVAL;VALUE=DURATION:PT1H
X-Robots-Tag:noindex
X-PUBLISHED-TTL:PT1H
BEGIN:VTIMEZONE
TZID:America/Los_Angeles
BEGIN:DAYLIGHT
TZOFFSETFROM:-0800
TZOFFSETTO:-0700
TZNAME:PDT
DTSTART:20240310T100000
END:DAYLIGHT
BEGIN:STANDARD
TZOFFSETFROM:-0700
TZOFFSETTO:-0800
TZNAME:PST
DTSTART:20241103T090000
END:STANDARD
BEGIN:DAYLIGHT
TZOFFSETFROM:-0800
TZOFFSETTO:-0700
TZNAME:PDT
DTSTART:20250309T100000
END:DAYLIGHT
BEGIN:STANDARD
TZOFFSETFROM:-0700
TZOFFSETTO:-0800
TZNAME:PST
DTSTART:20251102T090000
END:STANDARD
BEGIN:DAYLIGHT
TZOFFSETFROM:-0800
TZOFFSETTO:-0700
TZNAME:PDT
DTSTART:20260308T100000
END:DAYLIGHT
BEGIN:STANDARD
TZOFFSETFROM:-0700
TZOFFSETTO:-0800
TZNAME:PST
DTSTART:20261101T090000
END:STANDARD
BEGIN:DAYLIGHT
TZOFFSETFROM:-0800
TZOFFSETTO:-0700
TZNAME:PDT
DTSTART:20270314T100000
END:DAYLIGHT
BEGIN:STANDARD
TZOFFSETFROM:-0700
TZOFFSETTO:-0800
TZNAME:PST
DTSTART:20271107T090000
END:STANDARD
END:VTIMEZONE
BEGIN:VEVENT
DTSTART;TZID=America/Los_Angeles:20260421T141500
DTEND;TZID=America/Los_Angeles:20260421T160000
DTSTAMP:20260424T052341
CREATED:20260414T162435Z
LAST-MODIFIED:20260414T162435Z
UID:10456-1776780900-1776787200@comm.ucla.edu
SUMMARY:LaGina Gause\, UCSD
DESCRIPTION:
URL:https://comm.ucla.edu/event/lagina-gause-ucsd/
LOCATION:Rolfe 2125
END:VEVENT
BEGIN:VEVENT
DTSTART;TZID=America/Los_Angeles:20251112T150000
DTEND;TZID=America/Los_Angeles:20251112T163000
DTSTAMP:20260424T052341
CREATED:20250926T194328Z
LAST-MODIFIED:20250926T194328Z
UID:10053-1762959600-1762965000@comm.ucla.edu
SUMMARY:CPG Speaker: Marc André Bodet
DESCRIPTION:Accent as a factor of differentiation in a pluralistic society \nMarc André Bodet\, Professor\, Université Laval \nAbstract. There exists substantial research on the impact of various characteristics on the definition of national identity. Factors such as skin color and other phenotypical characteristics associated with race and ethnicity have played a central role along cultural and religious symbols. Language acquisition has also been a strong indicator of integration. In this article\, we focus on an understudied area that often signals otherness\, namely the importance of accent as a factor of differentiation. We focus on the impact of standard versus nonstandard accents\, alone and in combination with ethnic cues. Making use of a preregistered online experiment conducted in the Canadian province of Québec\, we randomize the ethnicity and accent of a person making a political statement and test whether these two characteristics are associated with differentiated evaluations of two types of statements about diversity (one more intercultural and one more multicultural)\, as well as assessments of the speaker’s belonging to the majority group. \nPart of the Communication and Politics Group speakers series.
URL:https://comm.ucla.edu/event/cpg-speaker-marc-andre-bodet/
LOCATION:Rolfe 2125
CATEGORIES:Communication and Politics Group
END:VEVENT
BEGIN:VEVENT
DTSTART;TZID=America/Los_Angeles:20251002T140000
DTEND;TZID=America/Los_Angeles:20251002T153000
DTSTAMP:20260424T052341
CREATED:20250922T171215Z
LAST-MODIFIED:20250926T194401Z
UID:10024-1759413600-1759419000@comm.ucla.edu
SUMMARY:CPG Speaker: Dan Hiaeshutter-Rice
DESCRIPTION:Enemies of the (E)state: Examining the Role of Attacks on The Press and Media Content \nDan Haieshutter-Rice\, Michigan State University \nA healthy critique of the free press is vital in a democracy. Like the other pillars of a functional democratic system\, the press performs its role best under a receptive but critical eye. Yet broad and sustained attacks by political elites can undermine a free and independent press. These attacks may pressure outlets to alter their content\, potentially through defense of the press or pulling back their negative coverage. These responses may also vary based on the kind of news organizations. Certain outlets may be more susceptible than others; for example\, publicly funded media could be especially responsive to accusations of bias given their reliance on government support and donor goodwill. \nThis paper examines how a wide range of news outlets—including local news organizations\, public media\, major broadcast networks\, and cable news—have responded to public accusations of bias and threats of regulatory action over the past 20 years. Drawing on the Congressional Record and a database of political newsletters from members of Congress (DCInbox)\, it analyzes changes in tone\, language\, sourcing\, and thematic emphasis in news coverage following political attacks. The findings will illuminate the extent to which critiques of the press translate into measurable shifts in coverage\, and the conditions under which media outlets are most likely to alter their content in response to political pressure. \nPart of the Communication and Politics Group speakers series.
URL:https://comm.ucla.edu/event/cpg-speaker-dan-hiaeshutter-rice/
LOCATION:Rolfe 2125
CATEGORIES:Communication and Politics Group
END:VEVENT
BEGIN:VEVENT
DTSTART;TZID=America/Los_Angeles:20250409T103000
DTEND;TZID=America/Los_Angeles:20250409T120000
DTSTAMP:20260424T052341
CREATED:20250331T200900Z
LAST-MODIFIED:20250331T200900Z
UID:9650-1744194600-1744200000@comm.ucla.edu
SUMMARY:CPS Speakers Series: Kevin Arceneaux (Sciences Po)
DESCRIPTION:The Political and Social Influence of Social Media: The Case of Facebook\nKevin Arceneaux\, Sciences Po\nWednesday April 9\, 10:30-12:00\, Rolfe 2125 \nABSTRACT: Popular discourse about social media presumes that social media platforms play an\noutsized role in shaping public opinion and political behavior. The social nature of these\nplatforms allow people to learn about politics from a tailored set of trusted sources\, making\nthem a potentially powerful influence\, while also making them notoriously difficult to study.\nDeactivation experiments\, which incentivize users to forgo using social media\, offer a blunt\ninstrument for estimating the overall impact of social media platforms. This talk will consider\nwhat we have learned about the effects of Facebook from several deactivation experiments\nconducted in the US and France. Despite its potential to shape public opinion and political\nbehavior\, these experiments suggest that it has relatively modest effects.
URL:https://comm.ucla.edu/event/cps-speakers-series-kevin-arceneaux-sciences-po/
LOCATION:Rolfe 2125
END:VEVENT
END:VCALENDAR